BEGIN:VCALENDAR
VERSION:2.0
PRODID:-//Duvall Performing Arts - ECPv6.15.18//NONSGML v1.0//EN
CALSCALE:GREGORIAN
METHOD:PUBLISH
X-ORIGINAL-URL:https://duvallperformingarts.com
X-WR-CALDESC:Events for Duvall Performing Arts
REFRESH-INTERVAL;VALUE=DURATION:PT1H
X-Robots-Tag:noindex
X-PUBLISHED-TTL:PT1H
BEGIN:VTIMEZONE
TZID:America/Los_Angeles
BEGIN:DAYLIGHT
TZOFFSETFROM:-0800
TZOFFSETTO:-0700
TZNAME:PDT
DTSTART:20190310T100000
END:DAYLIGHT
BEGIN:STANDARD
TZOFFSETFROM:-0700
TZOFFSETTO:-0800
TZNAME:PST
DTSTART:20191103T090000
END:STANDARD
BEGIN:DAYLIGHT
TZOFFSETFROM:-0800
TZOFFSETTO:-0700
TZNAME:PDT
DTSTART:20200308T100000
END:DAYLIGHT
BEGIN:STANDARD
TZOFFSETFROM:-0700
TZOFFSETTO:-0800
TZNAME:PST
DTSTART:20201101T090000
END:STANDARD
BEGIN:DAYLIGHT
TZOFFSETFROM:-0800
TZOFFSETTO:-0700
TZNAME:PDT
DTSTART:20210314T100000
END:DAYLIGHT
BEGIN:STANDARD
TZOFFSETFROM:-0700
TZOFFSETTO:-0800
TZNAME:PST
DTSTART:20211107T090000
END:STANDARD
END:VTIMEZONE
BEGIN:VTIMEZONE
TZID:America/Vancouver
BEGIN:DAYLIGHT
TZOFFSETFROM:-0800
TZOFFSETTO:-0700
TZNAME:PDT
DTSTART:20180311T100000
END:DAYLIGHT
BEGIN:STANDARD
TZOFFSETFROM:-0700
TZOFFSETTO:-0800
TZNAME:PST
DTSTART:20181104T090000
END:STANDARD
BEGIN:DAYLIGHT
TZOFFSETFROM:-0800
TZOFFSETTO:-0700
TZNAME:PDT
DTSTART:20190310T100000
END:DAYLIGHT
BEGIN:STANDARD
TZOFFSETFROM:-0700
TZOFFSETTO:-0800
TZNAME:PST
DTSTART:20191103T090000
END:STANDARD
BEGIN:DAYLIGHT
TZOFFSETFROM:-0800
TZOFFSETTO:-0700
TZNAME:PDT
DTSTART:20200308T100000
END:DAYLIGHT
BEGIN:STANDARD
TZOFFSETFROM:-0700
TZOFFSETTO:-0800
TZNAME:PST
DTSTART:20201101T090000
END:STANDARD
BEGIN:DAYLIGHT
TZOFFSETFROM:-0800
TZOFFSETTO:-0700
TZNAME:PDT
DTSTART:20210314T100000
END:DAYLIGHT
BEGIN:STANDARD
TZOFFSETFROM:-0700
TZOFFSETTO:-0800
TZNAME:PST
DTSTART:20211107T090000
END:STANDARD
END:VTIMEZONE
BEGIN:VEVENT
DTSTART;TZID=America/Los_Angeles:20201128T090000
DTEND;TZID=America/Los_Angeles:20201128T160000
DTSTAMP:20260423T201646
CREATED:20201019T232438Z
LAST-MODIFIED:20201020T001326Z
UID:37709-1606554000-1606579200@duvallperformingarts.com
SUMMARY:Holiday Photos with Santa
DESCRIPTION:Kick off the holiday season and celebrate this magical time of year with us!  Each socially distanced mini session will feature the “real Santa” looking through the window to check his “naughty or nice” list. \nSat. 11/28\, 9-12 & 1-4pm\nSignup here: https://sessionl.ink/dpadance
URL:https://duvallperformingarts.com/event/holiday-photos-with-santa/
LOCATION:Duvall Performing Arts\, 14524 Main St NE UNIT 109\, Duvall\, WA\, 98019\, United States
CATEGORIES:Photo Shoot
ATTACH;FMTTYPE=image/png:https://duvallperformingarts.com/wp-content/uploads/2020/10/santa.png
END:VEVENT
BEGIN:VEVENT
DTSTART;VALUE=DATE:20201123
DTEND;VALUE=DATE:20201129
DTSTAMP:20260423T201646
CREATED:20190724T043918Z
LAST-MODIFIED:20190724T043918Z
UID:1671-1606089600-1606607999@duvallperformingarts.com
SUMMARY:NO CLASSES: Thanksgiving break
DESCRIPTION:
URL:https://duvallperformingarts.com/event/no-classes-thanksgiving-break/
CATEGORIES:No Classes
END:VEVENT
BEGIN:VEVENT
DTSTART;VALUE=DATE:20201030
DTEND;VALUE=DATE:20201031
DTSTAMP:20260423T201646
CREATED:20190724T043646Z
LAST-MODIFIED:20190724T043646Z
UID:1663-1604016000-1604102399@duvallperformingarts.com
SUMMARY:DPA Virtual Halloween Party
DESCRIPTION:
URL:https://duvallperformingarts.com/event/dpa-halloween-party/
CATEGORIES:Party/Event
END:VEVENT
BEGIN:VEVENT
DTSTART;VALUE=DATE:20201026
DTEND;VALUE=DATE:20201101
DTSTAMP:20260423T201646
CREATED:20190724T043750Z
LAST-MODIFIED:20190724T043750Z
UID:1665-1603670400-1604188799@duvallperformingarts.com
SUMMARY:Wear your Halloween (or any) Costume to class!
DESCRIPTION:
URL:https://duvallperformingarts.com/event/wear-your-halloween-costume-to-class/
CATEGORIES:Class
END:VEVENT
BEGIN:VEVENT
DTSTART;VALUE=DATE:20200908
DTEND;VALUE=DATE:20200909
DTSTAMP:20260423T201646
CREATED:20190724T043406Z
LAST-MODIFIED:20190724T043406Z
UID:1659-1599523200-1599609599@duvallperformingarts.com
SUMMARY:First Day of Classes
DESCRIPTION:
URL:https://duvallperformingarts.com/event/first-day-of-classes/
CATEGORIES:Class
END:VEVENT
BEGIN:VEVENT
DTSTART;VALUE=DATE:20200608
DTEND;VALUE=DATE:20200614
DTSTAMP:20260423T201646
CREATED:20190724T045155Z
LAST-MODIFIED:20190724T045155Z
UID:1715-1591574400-1592092799@duvallperformingarts.com
SUMMARY:FREE trial week & Class Evaluations
DESCRIPTION:
URL:https://duvallperformingarts.com/event/free-trial-week-class-evaluations/
CATEGORIES:Trial Classes
END:VEVENT
BEGIN:VEVENT
DTSTART;VALUE=DATE:20200601
DTEND;VALUE=DATE:20200606
DTSTAMP:20260423T201646
CREATED:20190724T045053Z
LAST-MODIFIED:20190724T045053Z
UID:1711-1590969600-1591401599@duvallperformingarts.com
SUMMARY:Picture Week with Ariella Noelle Photography\, Parade rehearsals
DESCRIPTION:
URL:https://duvallperformingarts.com/event/picture-week-with-ariella-noelle-photography-parade-rehearsals/
CATEGORIES:Photo Shoot
END:VEVENT
BEGIN:VEVENT
DTSTART;VALUE=DATE:20200523
DTEND;VALUE=DATE:20200524
DTSTAMP:20260423T201646
CREATED:20190724T044958Z
LAST-MODIFIED:20190724T044958Z
UID:1707-1590192000-1590278399@duvallperformingarts.com
SUMMARY:SPRING PRODUCTION (Youth & Young Ones Division) –TENTATIVE DATE
DESCRIPTION:
URL:https://duvallperformingarts.com/event/spring-production-youth-young-ones-division-tentative-date/
CATEGORIES:Show
END:VEVENT
BEGIN:VEVENT
DTSTART;VALUE=DATE:20200515
DTEND;VALUE=DATE:20200517
DTSTAMP:20260423T201646
CREATED:20190724T044933Z
LAST-MODIFIED:20190724T044933Z
UID:1705-1589500800-1589673599@duvallperformingarts.com
SUMMARY:SPRING PRODUCTION (Advanced Division)
DESCRIPTION:
URL:https://duvallperformingarts.com/event/spring-production-advanced-division/
CATEGORIES:Show
END:VEVENT
BEGIN:VEVENT
DTSTART;VALUE=DATE:20200514
DTEND;VALUE=DATE:20200515
DTSTAMP:20260423T201646
CREATED:20200129T060740Z
LAST-MODIFIED:20200129T060740Z
UID:1797-1589414400-1589500799@duvallperformingarts.com
SUMMARY:Mary Poppins Show
DESCRIPTION:
URL:https://duvallperformingarts.com/event/mary-poppins-show/
CATEGORIES:Show
END:VEVENT
BEGIN:VEVENT
DTSTART;VALUE=DATE:20200511
DTEND;VALUE=DATE:20200516
DTSTAMP:20260423T201646
CREATED:20190724T044905Z
LAST-MODIFIED:20190724T044905Z
UID:1703-1589155200-1589587199@duvallperformingarts.com
SUMMARY:NO CLASSES: Tech Week – setting lights/music/stage for Spring Production!
DESCRIPTION:
URL:https://duvallperformingarts.com/event/no-classes-tech-week-setting-lights-music-stage-for-spring-production/
CATEGORIES:Tech Week
END:VEVENT
BEGIN:VEVENT
DTSTART;TZID=America/Vancouver:20200403T080000
DTEND;TZID=America/Vancouver:20200405T170000
DTSTAMP:20260423T201646
CREATED:20190724T044706Z
LAST-MODIFIED:20190724T044706Z
UID:1696-1585900800-1586106000@duvallperformingarts.com
SUMMARY:24Seven Dance Convention
DESCRIPTION:
URL:https://duvallperformingarts.com/event/24seven-dance-convention/
CATEGORIES:Party/Event
END:VEVENT
BEGIN:VEVENT
DTSTART;VALUE=DATE:20200207
DTEND;VALUE=DATE:20200210
DTSTAMP:20260423T201646
CREATED:20190724T044547Z
LAST-MODIFIED:20190724T044547Z
UID:1690-1581033600-1581292799@duvallperformingarts.com
SUMMARY:Dupree Dance Convention
DESCRIPTION:
URL:https://duvallperformingarts.com/event/dupree-dance-convention/
CATEGORIES:Party/Event
END:VEVENT
BEGIN:VEVENT
DTSTART;VALUE=DATE:20200118
DTEND;VALUE=DATE:20200119
DTSTAMP:20260423T201646
CREATED:20190724T044419Z
LAST-MODIFIED:20190724T044419Z
UID:1686-1579305600-1579391999@duvallperformingarts.com
SUMMARY:Spring Production Reveal Party: what will it be?!?
DESCRIPTION:
URL:https://duvallperformingarts.com/event/spring-production-reveal-party-what-will-it-be/
CATEGORIES:Party/Event
END:VEVENT
BEGIN:VEVENT
DTSTART;VALUE=DATE:20191213
DTEND;VALUE=DATE:20191215
DTSTAMP:20260423T201646
CREATED:20190724T044213Z
LAST-MODIFIED:20190724T044213Z
UID:1677-1576195200-1576367999@duvallperformingarts.com
SUMMARY:NUTCRACKER (Advanced Division) – TENTATIVE DATE
DESCRIPTION:
URL:https://duvallperformingarts.com/event/nutcracker-advanced-division-tentative-date/
CATEGORIES:Show
END:VEVENT
BEGIN:VEVENT
DTSTART;VALUE=DATE:20191206
DTEND;VALUE=DATE:20191207
DTSTAMP:20260423T201646
CREATED:20190724T044028Z
LAST-MODIFIED:20190724T044028Z
UID:1675-1575590400-1575676799@duvallperformingarts.com
SUMMARY:Duvall Tree Lighting: Performance Division performs
DESCRIPTION:
URL:https://duvallperformingarts.com/event/duvall-tree-lighting-performance-division-performs/
CATEGORIES:Party/Event
END:VEVENT
BEGIN:VEVENT
DTSTART;VALUE=DATE:20191031
DTEND;VALUE=DATE:20191101
DTSTAMP:20260423T201646
CREATED:20190724T043815Z
LAST-MODIFIED:20190724T043815Z
UID:1667-1572480000-1572566399@duvallperformingarts.com
SUMMARY:NO AFTERNOON/EVENING CLASSES: Halloween
DESCRIPTION:
URL:https://duvallperformingarts.com/event/no-afternoon-evening-classes-halloween/
CATEGORIES:No Classes
END:VEVENT
BEGIN:VEVENT
DTSTART;VALUE=DATE:20190615
DTEND;VALUE=DATE:20190616
DTSTAMP:20260423T201646
CREATED:20190403T223921Z
LAST-MODIFIED:20190403T223921Z
UID:1536-1560556800-1560643199@duvallperformingarts.com
SUMMARY:Last Day of Classes
DESCRIPTION:Last day of classes
URL:https://duvallperformingarts.com/event/last-day-of-classes/
CATEGORIES:Class
END:VEVENT
BEGIN:VEVENT
DTSTART;VALUE=DATE:20190608
DTEND;VALUE=DATE:20190609
DTSTAMP:20260423T201646
CREATED:20190403T223801Z
LAST-MODIFIED:20190403T223801Z
UID:1532-1559952000-1560038399@duvallperformingarts.com
SUMMARY:Peter Pan Performances at Cedarcrest High School
DESCRIPTION:Peter Pan performances at Cedarcrest High School – 10:00am\, 1:00pm\, and 4:00pm \n\nCast A – arrive at 9:00am (Tiny Tutus arrive at 9:40am)\nCast B – arrive at 12:00pm (Mini Movers arrive at 12:40pm)\nCast C – arrive at 3:00pm (Mini Movers arrive at 3:40pm)
URL:https://duvallperformingarts.com/event/peter-pan-performances-at-cedarcrest-high-school/
CATEGORIES:Show
END:VEVENT
BEGIN:VEVENT
DTSTART;VALUE=DATE:20190606
DTEND;VALUE=DATE:20190607
DTSTAMP:20260423T201646
CREATED:20190403T223709Z
LAST-MODIFIED:20190403T223709Z
UID:1530-1559779200-1559865599@duvallperformingarts.com
SUMMARY:Ticket Sales Close Online For Peter Pan
DESCRIPTION:Ticket sales close online for Peter Pan. Any remaining tickets will be sold at the theater the day of the performance.
URL:https://duvallperformingarts.com/event/ticket-sales-close-online-for-peter-pan/
CATEGORIES:Show
END:VEVENT
BEGIN:VEVENT
DTSTART;VALUE=DATE:20190605
DTEND;VALUE=DATE:20190606
DTSTAMP:20260423T201646
CREATED:20190403T223439Z
LAST-MODIFIED:20190403T223439Z
UID:1526-1559692800-1559779199@duvallperformingarts.com
SUMMARY:Peter Pan Dress Rehearsal
DESCRIPTION:Dress rehearsal at Cedarcrest High School – NO AFTERNOON/EVENING CLASSES \n\nCast A – 4:00-5:00pm (No Tiny Tutus)*\nCast B – 5:30-6:30pm (No Mini Movers)*\nCast C – 7:00-8:00pm (No Mini Movers)*\n\n*Tiny Tutus and Mini Movers will have dress rehearsal in class June 3-5
URL:https://duvallperformingarts.com/event/peter-pan-dress-rehearsal/
CATEGORIES:No Classes,Rehearsal
END:VEVENT
BEGIN:VEVENT
DTSTART;VALUE=DATE:20190604
DTEND;VALUE=DATE:20190607
DTSTAMP:20260423T201646
CREATED:20190403T223546Z
LAST-MODIFIED:20190403T223546Z
UID:1528-1559606400-1559865599@duvallperformingarts.com
SUMMARY:Regular Classes
DESCRIPTION:Regular classes
URL:https://duvallperformingarts.com/event/regular-classes/
CATEGORIES:Class
END:VEVENT
BEGIN:VEVENT
DTSTART;VALUE=DATE:20190601
DTEND;VALUE=DATE:20190602
DTSTAMP:20260423T201646
CREATED:20190403T223243Z
LAST-MODIFIED:20190403T223243Z
UID:1524-1559347200-1559433599@duvallperformingarts.com
SUMMARY:Duvall Days Parade
DESCRIPTION:T-shirt or tank top must be purchased to walk in the parade.\nMore details will be sent out closer to the date.
URL:https://duvallperformingarts.com/event/duvall-days-parade/
CATEGORIES:Show
END:VEVENT
BEGIN:VEVENT
DTSTART;TZID=America/Vancouver:20190531T173000
DTEND;TZID=America/Vancouver:20190531T183000
DTSTAMP:20260423T201646
CREATED:20190403T223151Z
LAST-MODIFIED:20190403T223151Z
UID:1522-1559323800-1559327400@duvallperformingarts.com
SUMMARY:Duvall Days Parade Rehearsal
DESCRIPTION:5:30-6:30pm (Ages 6 and up)
URL:https://duvallperformingarts.com/event/duvall-days-parade-rehearsal-2-2/
CATEGORIES:Rehearsal
END:VEVENT
BEGIN:VEVENT
DTSTART;VALUE=DATE:20190527
DTEND;VALUE=DATE:20190528
DTSTAMP:20260423T201646
CREATED:20190403T222936Z
LAST-MODIFIED:20190403T222936Z
UID:1516-1558915200-1559001599@duvallperformingarts.com
SUMMARY:Memorial Day\, NO CLASSES
DESCRIPTION:Memorial Day\, NO CLASSES
URL:https://duvallperformingarts.com/event/memorial-day-no-classes/
CATEGORIES:No Classes
END:VEVENT
BEGIN:VEVENT
DTSTART;TZID=America/Vancouver:20190524T173000
DTEND;TZID=America/Vancouver:20190524T183000
DTSTAMP:20260423T201646
CREATED:20190403T223135Z
LAST-MODIFIED:20190403T223135Z
UID:1520-1558719000-1558722600@duvallperformingarts.com
SUMMARY:Duvall Days Parade Rehearsal
DESCRIPTION:5:30-6:30pm (Ages 6 and up)
URL:https://duvallperformingarts.com/event/duvall-days-parade-rehearsal-2/
CATEGORIES:Rehearsal
END:VEVENT
BEGIN:VEVENT
DTSTART;VALUE=DATE:20190520
DTEND;VALUE=DATE:20190526
DTSTAMP:20260423T201646
CREATED:20190403T222856Z
LAST-MODIFIED:20190403T222856Z
UID:1514-1558310400-1558828799@duvallperformingarts.com
SUMMARY:Picture Week
DESCRIPTION:Students come to class in costume with hair done and ready for photos.
URL:https://duvallperformingarts.com/event/picture-week/
CATEGORIES:Photo Shoot
END:VEVENT
BEGIN:VEVENT
DTSTART;VALUE=DATE:20190520
DTEND;VALUE=DATE:20190521
DTSTAMP:20260423T201646
CREATED:20190403T222805Z
LAST-MODIFIED:20190403T222805Z
UID:1512-1558310400-1558396799@duvallperformingarts.com
SUMMARY:Tickets for Peter Pan are Open to the Public
DESCRIPTION:Tickets for Peter Pan are open to the public at www.tututix.com\nIf you have not purchased your 4 tickets by this date\, they will be released to the public and not held for you. No restrictions on ticket purchases.
URL:https://duvallperformingarts.com/event/tickets-for-peter-pan-are-open-to-the-public/
CATEGORIES:Show
END:VEVENT
BEGIN:VEVENT
DTSTART;TZID=America/Vancouver:20190517T173000
DTEND;TZID=America/Vancouver:20190517T183000
DTSTAMP:20260423T201646
CREATED:20190403T223040Z
LAST-MODIFIED:20190403T223040Z
UID:1518-1558114200-1558117800@duvallperformingarts.com
SUMMARY:Duvall Days Parade Rehearsal
DESCRIPTION:5:30-6:30pm (Ages 6 and up)
URL:https://duvallperformingarts.com/event/duvall-days-parade-rehearsal/
CATEGORIES:Rehearsal
END:VEVENT
BEGIN:VEVENT
DTSTART;TZID=America/Vancouver:20190511T190000
DTEND;TZID=America/Vancouver:20190511T200000
DTSTAMP:20260423T201646
CREATED:20190407T005240Z
LAST-MODIFIED:20190407T005240Z
UID:1566-1557601200-1557604800@duvallperformingarts.com
SUMMARY:Neverland at Cedarcrest High School (7pm)
DESCRIPTION:
URL:https://duvallperformingarts.com/event/neverland-at-cedarcrest-high-school-may11-7pm/
CATEGORIES:Show
END:VEVENT
END:VCALENDAR