BEGIN:VCALENDAR
VERSION:2.0
PRODID:-//Duvall Performing Arts - ECPv6.15.18//NONSGML v1.0//EN
CALSCALE:GREGORIAN
METHOD:PUBLISH
X-WR-CALNAME:Duvall Performing Arts
X-ORIGINAL-URL:https://duvallperformingarts.com
X-WR-CALDESC:Events for Duvall Performing Arts
REFRESH-INTERVAL;VALUE=DURATION:PT1H
X-Robots-Tag:noindex
X-PUBLISHED-TTL:PT1H
BEGIN:VTIMEZONE
TZID:America/Los_Angeles
BEGIN:DAYLIGHT
TZOFFSETFROM:-0800
TZOFFSETTO:-0700
TZNAME:PDT
DTSTART:20210314T100000
END:DAYLIGHT
BEGIN:STANDARD
TZOFFSETFROM:-0700
TZOFFSETTO:-0800
TZNAME:PST
DTSTART:20211107T090000
END:STANDARD
BEGIN:DAYLIGHT
TZOFFSETFROM:-0800
TZOFFSETTO:-0700
TZNAME:PDT
DTSTART:20220313T100000
END:DAYLIGHT
BEGIN:STANDARD
TZOFFSETFROM:-0700
TZOFFSETTO:-0800
TZNAME:PST
DTSTART:20221106T090000
END:STANDARD
BEGIN:DAYLIGHT
TZOFFSETFROM:-0800
TZOFFSETTO:-0700
TZNAME:PDT
DTSTART:20230312T100000
END:DAYLIGHT
BEGIN:STANDARD
TZOFFSETFROM:-0700
TZOFFSETTO:-0800
TZNAME:PST
DTSTART:20231105T090000
END:STANDARD
BEGIN:DAYLIGHT
TZOFFSETFROM:-0800
TZOFFSETTO:-0700
TZNAME:PDT
DTSTART:20240310T100000
END:DAYLIGHT
BEGIN:STANDARD
TZOFFSETFROM:-0700
TZOFFSETTO:-0800
TZNAME:PST
DTSTART:20241103T090000
END:STANDARD
END:VTIMEZONE
BEGIN:VTIMEZONE
TZID:America/Vancouver
BEGIN:DAYLIGHT
TZOFFSETFROM:-0800
TZOFFSETTO:-0700
TZNAME:PDT
DTSTART:20200308T100000
END:DAYLIGHT
BEGIN:STANDARD
TZOFFSETFROM:-0700
TZOFFSETTO:-0800
TZNAME:PST
DTSTART:20201101T090000
END:STANDARD
BEGIN:DAYLIGHT
TZOFFSETFROM:-0800
TZOFFSETTO:-0700
TZNAME:PDT
DTSTART:20210314T100000
END:DAYLIGHT
BEGIN:STANDARD
TZOFFSETFROM:-0700
TZOFFSETTO:-0800
TZNAME:PST
DTSTART:20211107T090000
END:STANDARD
BEGIN:DAYLIGHT
TZOFFSETFROM:-0800
TZOFFSETTO:-0700
TZNAME:PDT
DTSTART:20220313T100000
END:DAYLIGHT
BEGIN:STANDARD
TZOFFSETFROM:-0700
TZOFFSETTO:-0800
TZNAME:PST
DTSTART:20221106T090000
END:STANDARD
END:VTIMEZONE
BEGIN:VEVENT
DTSTART;VALUE=DATE:20230401
DTEND;VALUE=DATE:20230402
DTSTAMP:20260423T155320
CREATED:20220823T175807Z
LAST-MODIFIED:20220823T175807Z
UID:38374-1680307200-1680393599@duvallperformingarts.com
SUMMARY:Monthly Tuition due
DESCRIPTION:
URL:https://duvallperformingarts.com/event/monthly-tuition-due-5/
LOCATION:WA
END:VEVENT
BEGIN:VEVENT
DTSTART;VALUE=DATE:20230301
DTEND;VALUE=DATE:20230302
DTSTAMP:20260423T155320
CREATED:20220823T175713Z
LAST-MODIFIED:20220823T175713Z
UID:38372-1677628800-1677715199@duvallperformingarts.com
SUMMARY:Monthly Tuition due
DESCRIPTION:
URL:https://duvallperformingarts.com/event/monthly-tuition-due-4/
LOCATION:WA
END:VEVENT
BEGIN:VEVENT
DTSTART;TZID=America/Los_Angeles:20230217T080000
DTEND;TZID=America/Los_Angeles:20230220T170000
DTSTAMP:20260423T155320
CREATED:20230116T022046Z
LAST-MODIFIED:20230116T022046Z
UID:38568-1676620800-1676912400@duvallperformingarts.com
SUMMARY:Mid Winter Break (2023)
DESCRIPTION:No Classes
URL:https://duvallperformingarts.com/event/mid-winter-break-2023/
LOCATION:WA
CATEGORIES:No Classes
END:VEVENT
BEGIN:VEVENT
DTSTART;VALUE=DATE:20230201
DTEND;VALUE=DATE:20230202
DTSTAMP:20260423T155320
CREATED:20220823T175523Z
LAST-MODIFIED:20220823T175551Z
UID:38369-1675209600-1675295999@duvallperformingarts.com
SUMMARY:Monthly Tuition due/New Enrollment Ends
DESCRIPTION:
URL:https://duvallperformingarts.com/event/monthly-tuition-due-3/
LOCATION:WA
END:VEVENT
BEGIN:VEVENT
DTSTART;VALUE=DATE:20230116
DTEND;VALUE=DATE:20230117
DTSTAMP:20260423T155320
CREATED:20220823T175424Z
LAST-MODIFIED:20220823T175424Z
UID:38367-1673827200-1673913599@duvallperformingarts.com
SUMMARY:Spring Production fees Due
DESCRIPTION:
URL:https://duvallperformingarts.com/event/spring-production-fees-due/
LOCATION:WA
END:VEVENT
BEGIN:VEVENT
DTSTART;VALUE=DATE:20230113
DTEND;VALUE=DATE:20230114
DTSTAMP:20260423T155320
CREATED:20220823T175323Z
LAST-MODIFIED:20220823T175323Z
UID:38365-1673568000-1673654399@duvallperformingarts.com
SUMMARY:Spring Production Reveal Party
DESCRIPTION:
URL:https://duvallperformingarts.com/event/spring-production-reveal-party/
LOCATION:WA
CATEGORIES:Party/Event
END:VEVENT
BEGIN:VEVENT
DTSTART;VALUE=DATE:20230102
DTEND;VALUE=DATE:20230103
DTSTAMP:20260423T155320
CREATED:20220823T175111Z
LAST-MODIFIED:20220823T175111Z
UID:38363-1672617600-1672703999@duvallperformingarts.com
SUMMARY:Monthly Tuition due
DESCRIPTION:
URL:https://duvallperformingarts.com/event/monthly-tuition-due-2/
LOCATION:WA
END:VEVENT
BEGIN:VEVENT
DTSTART;TZID=America/Los_Angeles:20221219T080000
DTEND;TZID=America/Los_Angeles:20230102T170000
DTSTAMP:20260423T155320
CREATED:20220823T175007Z
LAST-MODIFIED:20220823T175007Z
UID:38361-1671436800-1672678800@duvallperformingarts.com
SUMMARY:Winter Break
DESCRIPTION:
URL:https://duvallperformingarts.com/event/winter-break/
LOCATION:WA
CATEGORIES:No Classes
END:VEVENT
BEGIN:VEVENT
DTSTART;VALUE=DATE:20221217
DTEND;VALUE=DATE:20221218
DTSTAMP:20260423T155320
CREATED:20220823T174636Z
LAST-MODIFIED:20220823T174701Z
UID:38359-1671235200-1671321599@duvallperformingarts.com
SUMMARY:Winter Showcase (tentative date)
DESCRIPTION:
URL:https://duvallperformingarts.com/event/winter-showcase-tentative-date-2/
LOCATION:WA
CATEGORIES:Show
END:VEVENT
BEGIN:VEVENT
DTSTART;VALUE=DATE:20221211
DTEND;VALUE=DATE:20221212
DTSTAMP:20260423T155320
CREATED:20220823T174312Z
LAST-MODIFIED:20220823T174431Z
UID:38357-1670716800-1670803199@duvallperformingarts.com
SUMMARY:NUTCRACKER PERFORMANCE (tentative dates)
DESCRIPTION:
URL:https://duvallperformingarts.com/event/nutcracker-performance-tentative-dates-2/
LOCATION:Cedarcrest Highschool\, 29000 150th St. NE\, Duvall\, WA\, 98019\, United States
CATEGORIES:Show
END:VEVENT
BEGIN:VEVENT
DTSTART;VALUE=DATE:20221210
DTEND;VALUE=DATE:20221211
DTSTAMP:20260423T155320
CREATED:20220823T174127Z
LAST-MODIFIED:20220823T174422Z
UID:38355-1670630400-1670716799@duvallperformingarts.com
SUMMARY:NUTCRACKER PERFORMANCES (tentative dates)
DESCRIPTION:
URL:https://duvallperformingarts.com/event/nutcracker-performances-tentative-dates/
LOCATION:Cedarcrest Highschool\, 29000 150th St. NE\, Duvall\, WA\, 98019\, United States
CATEGORIES:Show
END:VEVENT
BEGIN:VEVENT
DTSTART;VALUE=DATE:20221209
DTEND;VALUE=DATE:20221210
DTSTAMP:20260423T155320
CREATED:20220823T173957Z
LAST-MODIFIED:20220823T174408Z
UID:38351-1670544000-1670630399@duvallperformingarts.com
SUMMARY:NUTCRACKER PERFORMANCE (tentative dates)
DESCRIPTION:
URL:https://duvallperformingarts.com/event/nutcracker-performance-tentative-dates/
LOCATION:Cedarcrest Highschool\, 29000 150th St. NE\, Duvall\, WA\, 98019\, United States
CATEGORIES:Show
END:VEVENT
BEGIN:VEVENT
DTSTART;VALUE=DATE:20221201
DTEND;VALUE=DATE:20221202
DTSTAMP:20260423T155320
CREATED:20220823T173554Z
LAST-MODIFIED:20220823T173554Z
UID:38349-1669852800-1669939199@duvallperformingarts.com
SUMMARY:Monthly Tuition
DESCRIPTION:
URL:https://duvallperformingarts.com/event/monthly-tuition-2/
LOCATION:WA
END:VEVENT
BEGIN:VEVENT
DTSTART;TZID=America/Los_Angeles:20221121T080000
DTEND;TZID=America/Los_Angeles:20221126T170000
DTSTAMP:20260423T155320
CREATED:20220823T173259Z
LAST-MODIFIED:20220823T173259Z
UID:38347-1669017600-1669482000@duvallperformingarts.com
SUMMARY:Thanksgiving Break
DESCRIPTION:
URL:https://duvallperformingarts.com/event/thanksgiving-break-2/
LOCATION:WA
CATEGORIES:No Classes
END:VEVENT
BEGIN:VEVENT
DTSTART;VALUE=DATE:20221120
DTEND;VALUE=DATE:20221121
DTSTAMP:20260423T155320
CREATED:20220823T172536Z
LAST-MODIFIED:20220823T172748Z
UID:38343-1668902400-1668988799@duvallperformingarts.com
SUMMARY:Santa Photos!
DESCRIPTION:
URL:https://duvallperformingarts.com/event/santa-photos-3/
LOCATION:Duvall Performing Arts\, 14524 Main St NE UNIT 109\, Duvall\, WA\, 98019\, United States
CATEGORIES:Photo Shoot
END:VEVENT
BEGIN:VEVENT
DTSTART;VALUE=DATE:20221119
DTEND;VALUE=DATE:20221120
DTSTAMP:20260423T155320
CREATED:20220823T172949Z
LAST-MODIFIED:20220823T172949Z
UID:38345-1668816000-1668902399@duvallperformingarts.com
SUMMARY:Santa Photos
DESCRIPTION:
URL:https://duvallperformingarts.com/event/santa-photos-4/
LOCATION:Duvall Performing Arts\, 14524 Main St NE UNIT 109\, Duvall\, WA\, 98019\, United States
CATEGORIES:Photo Shoot
END:VEVENT
BEGIN:VEVENT
DTSTART;VALUE=DATE:20221113
DTEND;VALUE=DATE:20221114
DTSTAMP:20260423T155320
CREATED:20220823T172446Z
LAST-MODIFIED:20220823T173057Z
UID:38341-1668297600-1668383999@duvallperformingarts.com
SUMMARY:Santa Photos!
DESCRIPTION:
URL:https://duvallperformingarts.com/event/santa-photos-2/
LOCATION:Duvall Performing Arts\, 14524 Main St NE UNIT 109\, Duvall\, WA\, 98019\, United States
CATEGORIES:Photo Shoot
END:VEVENT
BEGIN:VEVENT
DTSTART;VALUE=DATE:20221112
DTEND;VALUE=DATE:20221113
DTSTAMP:20260423T155320
CREATED:20220823T171602Z
LAST-MODIFIED:20220823T171602Z
UID:38333-1668211200-1668297599@duvallperformingarts.com
SUMMARY:Santa Photos!
DESCRIPTION:
URL:https://duvallperformingarts.com/event/santa-photos/
LOCATION:Duvall Performing Arts\, 14524 Main St NE UNIT 109\, Duvall\, WA\, 98019\, United States
CATEGORIES:Photo Shoot
END:VEVENT
BEGIN:VEVENT
DTSTART;VALUE=DATE:20221101
DTEND;VALUE=DATE:20221102
DTSTAMP:20260423T155320
CREATED:20220823T171153Z
LAST-MODIFIED:20220823T171153Z
UID:38331-1667260800-1667347199@duvallperformingarts.com
SUMMARY:Monthly Tuition
DESCRIPTION:
URL:https://duvallperformingarts.com/event/monthly-tuition/
LOCATION:WA
END:VEVENT
BEGIN:VEVENT
DTSTART;TZID=America/Los_Angeles:20221024T080000
DTEND;TZID=America/Los_Angeles:20221029T200000
DTSTAMP:20260423T155320
CREATED:20220823T170714Z
LAST-MODIFIED:20220823T170946Z
UID:38329-1666598400-1667073600@duvallperformingarts.com
SUMMARY:Halloween Costume Week!
DESCRIPTION:Wear your costume to class!
URL:https://duvallperformingarts.com/event/halloween-costume-week/
LOCATION:Duvall Performing Arts\, 14524 Main St NE UNIT 109\, Duvall\, WA\, 98019\, United States
CATEGORIES:Party/Event
END:VEVENT
BEGIN:VEVENT
DTSTART;VALUE=DATE:20221001
DTEND;VALUE=DATE:20221002
DTSTAMP:20260423T155320
CREATED:20220823T170451Z
LAST-MODIFIED:20220823T170451Z
UID:38327-1664582400-1664668799@duvallperformingarts.com
SUMMARY:Monthly Tuition Due
DESCRIPTION:
URL:https://duvallperformingarts.com/event/monthly-tuition-due/
LOCATION:WA
END:VEVENT
BEGIN:VEVENT
DTSTART;VALUE=DATE:20220912
DTEND;VALUE=DATE:20220913
DTSTAMP:20260423T155320
CREATED:20220727T004547Z
LAST-MODIFIED:20220727T004547Z
UID:38295-1662940800-1663027199@duvallperformingarts.com
SUMMARY:First Day of Classes
DESCRIPTION:
URL:https://duvallperformingarts.com/event/first-day-of-classes-2/
LOCATION:Duvall Performing Arts\, 14524 Main St NE UNIT 109\, Duvall\, WA\, 98019\, United States
END:VEVENT
BEGIN:VEVENT
DTSTART;TZID=America/Los_Angeles:20220827T103000
DTEND;TZID=America/Los_Angeles:20220827T113000
DTSTAMP:20260423T155320
CREATED:20220801T174014Z
LAST-MODIFIED:20220801T174014Z
UID:38303-1661596200-1661599800@duvallperformingarts.com
SUMMARY:Nutcracker Auditions 2022 | Levels 4+
DESCRIPTION:
URL:https://duvallperformingarts.com/event/nutcracker-auditions-2022-levels-4/
LOCATION:Duvall Performing Arts\, 14524 Main St NE UNIT 109\, Duvall\, WA\, 98019\, United States
CATEGORIES:Audition
END:VEVENT
BEGIN:VEVENT
DTSTART;TZID=America/Los_Angeles:20220827T093000
DTEND;TZID=America/Los_Angeles:20220827T223000
DTSTAMP:20260423T155320
CREATED:20220801T173658Z
LAST-MODIFIED:20220801T174141Z
UID:38301-1661592600-1661639400@duvallperformingarts.com
SUMMARY:Nutcracker Auditions 2022 | Levels 2/3
DESCRIPTION:
URL:https://duvallperformingarts.com/event/nutcracker-auditions-2022-levels-2-3/
LOCATION:Duvall Performing Arts\, 14524 Main St NE UNIT 109\, Duvall\, WA\, 98019\, United States
CATEGORIES:Audition
END:VEVENT
BEGIN:VEVENT
DTSTART;TZID=America/Los_Angeles:20220818T160000
DTEND;TZID=America/Los_Angeles:20220818T190000
DTSTAMP:20260423T155320
CREATED:20220727T004206Z
LAST-MODIFIED:20220727T004206Z
UID:38293-1660838400-1660849200@duvallperformingarts.com
SUMMARY:DPA Open House Day 2
DESCRIPTION:Meet our Directors \n\nNew Family Registration Specials!\nPurchase class attire\nSchedule placement evaluation
URL:https://duvallperformingarts.com/event/dpa-open-house-day-2/
LOCATION:Duvall Performing Arts\, 14524 Main St NE UNIT 109\, Duvall\, WA\, 98019\, United States
END:VEVENT
BEGIN:VEVENT
DTSTART;TZID=America/Los_Angeles:20220816T160000
DTEND;TZID=America/Los_Angeles:20220816T190000
DTSTAMP:20260423T155320
CREATED:20220727T004017Z
LAST-MODIFIED:20220727T004035Z
UID:38286-1660665600-1660676400@duvallperformingarts.com
SUMMARY:DPA Open House Day 1
DESCRIPTION:Meet our Directors! \n\nNew Family Registration Specials!\nPurchase class attire\nSchedule placement evaluation
URL:https://duvallperformingarts.com/event/dpa-open-house/
LOCATION:Duvall Performing Arts\, 14524 Main St NE UNIT 109\, Duvall\, WA\, 98019\, United States
END:VEVENT
BEGIN:VEVENT
DTSTART;VALUE=DATE:20220725
DTEND;VALUE=DATE:20220726
DTSTAMP:20260423T155320
CREATED:20220727T004943Z
LAST-MODIFIED:20220727T004943Z
UID:38297-1658707200-1658793599@duvallperformingarts.com
SUMMARY:Online Registration OPEN
DESCRIPTION:
URL:https://duvallperformingarts.com/event/online-registration-open/
LOCATION:WA
END:VEVENT
BEGIN:VEVENT
DTSTART;VALUE=DATE:20210705
DTEND;VALUE=DATE:20210706
DTSTAMP:20260423T155320
CREATED:20200811T022941Z
LAST-MODIFIED:20200811T022941Z
UID:1886-1625443200-1625529599@duvallperformingarts.com
SUMMARY:Summer Camps & Classes begin
DESCRIPTION:
URL:https://duvallperformingarts.com/event/summer-camps-classes-begin/
LOCATION:WA
CATEGORIES:Class
END:VEVENT
BEGIN:VEVENT
DTSTART;VALUE=DATE:20210612
DTEND;VALUE=DATE:20210613
DTSTAMP:20260423T155320
CREATED:20190724T045223Z
LAST-MODIFIED:20190724T045223Z
UID:1717-1623456000-1623542399@duvallperformingarts.com
SUMMARY:Last day of regular classes
DESCRIPTION:
URL:https://duvallperformingarts.com/event/last-day-of-regular-classes-2/
LOCATION:WA
CATEGORIES:Class
END:VEVENT
BEGIN:VEVENT
DTSTART;VALUE=DATE:20210607
DTEND;VALUE=DATE:20210613
DTSTAMP:20260423T155320
CREATED:20190403T223850Z
LAST-MODIFIED:20190403T223850Z
UID:1534-1623024000-1623542399@duvallperformingarts.com
SUMMARY:Free Trial Class Week
DESCRIPTION:During this week your dancer can drop into any class (appropriate age/level) for no extra charge. This is a good time to explore other styles of dance. Invite a friend too! Free trials available for Mommy & Me through Level 3 classes only. Dancers must stop by the front desk and pick up a Trial Slip before class.
URL:https://duvallperformingarts.com/event/free-trial-class-week/
LOCATION:WA
CATEGORIES:Trial Classes
END:VEVENT
END:VCALENDAR