BEGIN:VCALENDAR
VERSION:2.0
PRODID:-//Duvall Performing Arts - ECPv6.15.18//NONSGML v1.0//EN
CALSCALE:GREGORIAN
METHOD:PUBLISH
X-ORIGINAL-URL:https://duvallperformingarts.com
X-WR-CALDESC:Events for Duvall Performing Arts
REFRESH-INTERVAL;VALUE=DURATION:PT1H
X-Robots-Tag:noindex
X-PUBLISHED-TTL:PT1H
BEGIN:VTIMEZONE
TZID:America/Los_Angeles
BEGIN:DAYLIGHT
TZOFFSETFROM:-0800
TZOFFSETTO:-0700
TZNAME:PDT
DTSTART:20230312T100000
END:DAYLIGHT
BEGIN:STANDARD
TZOFFSETFROM:-0700
TZOFFSETTO:-0800
TZNAME:PST
DTSTART:20231105T090000
END:STANDARD
BEGIN:DAYLIGHT
TZOFFSETFROM:-0800
TZOFFSETTO:-0700
TZNAME:PDT
DTSTART:20240310T100000
END:DAYLIGHT
BEGIN:STANDARD
TZOFFSETFROM:-0700
TZOFFSETTO:-0800
TZNAME:PST
DTSTART:20241103T090000
END:STANDARD
BEGIN:DAYLIGHT
TZOFFSETFROM:-0800
TZOFFSETTO:-0700
TZNAME:PDT
DTSTART:20250309T100000
END:DAYLIGHT
BEGIN:STANDARD
TZOFFSETFROM:-0700
TZOFFSETTO:-0800
TZNAME:PST
DTSTART:20251102T090000
END:STANDARD
END:VTIMEZONE
BEGIN:VEVENT
DTSTART;TZID=America/Los_Angeles:20241221T190000
DTEND;TZID=America/Los_Angeles:20241221T193000
DTSTAMP:20260423T121303
CREATED:20241122T182154Z
LAST-MODIFIED:20241122T183328Z
UID:39296-1734807600-1734809400@duvallperformingarts.com
SUMMARY:Nutcracker Performance
DESCRIPTION:Experience the enchanting tale of Clara and her Nutcracker! \nDuvall Performing Arts proudly presents The Nutcracker! Journey with Clara on an unforgettable adventure in the Land of Sweets. Watch as snowflakes dance\, flowers waltz\, and the sweetest delights come to life! \nIn this family-oriented\, 90 minute production\, you’ll enjoy enchanting choreography\, dazzling costume design\, and\nthe timeless music of Tchaikovsky. \nJoin us for this annual holiday tradition and make special memories to last a lifetime.
URL:https://duvallperformingarts.com/event/nutcracker-performance-7/
LOCATION:WA
CATEGORIES:Show
END:VEVENT
BEGIN:VEVENT
DTSTART;TZID=America/Los_Angeles:20241221T140000
DTEND;TZID=America/Los_Angeles:20241221T153000
DTSTAMP:20260423T121303
CREATED:20241122T182115Z
LAST-MODIFIED:20241122T183357Z
UID:39294-1734789600-1734795000@duvallperformingarts.com
SUMMARY:Nutcracker Performance
DESCRIPTION:Experience the enchanting tale of Clara and her Nutcracker! \nDuvall Performing Arts proudly presents The Nutcracker! Journey with Clara on an unforgettable adventure in the Land of Sweets. Watch as snowflakes dance\, flowers waltz\, and the sweetest delights come to life! \nIn this family-oriented\, 90 minute production\, you’ll enjoy enchanting choreography\, dazzling costume design\, and\nthe timeless music of Tchaikovsky. \nJoin us for this annual holiday tradition and make special memories to last a lifetime.
URL:https://duvallperformingarts.com/event/nutcracker-performance-6/
LOCATION:WA
CATEGORIES:Show
END:VEVENT
BEGIN:VEVENT
DTSTART;TZID=America/Los_Angeles:20241220T190000
DTEND;TZID=America/Los_Angeles:20241220T203000
DTSTAMP:20260423T121303
CREATED:20241122T182040Z
LAST-MODIFIED:20241122T183404Z
UID:39292-1734721200-1734726600@duvallperformingarts.com
SUMMARY:Nutcracker Performance
DESCRIPTION:Experience the enchanting tale of Clara and her Nutcracker! \nDuvall Performing Arts proudly presents The Nutcracker! Journey with Clara on an unforgettable adventure in the Land of Sweets. Watch as snowflakes dance\, flowers waltz\, and the sweetest delights come to life! \nIn this family-oriented\, 90 minute production\, you’ll enjoy enchanting choreography\, dazzling costume design\, and\nthe timeless music of Tchaikovsky. \nJoin us for this annual holiday tradition and make special memories to last a lifetime.
URL:https://duvallperformingarts.com/event/nutcracker-performance-5/
LOCATION:WA
CATEGORIES:Show
END:VEVENT
BEGIN:VEVENT
DTSTART;TZID=America/Los_Angeles:20241215T140000
DTEND;TZID=America/Los_Angeles:20241215T153000
DTSTAMP:20260423T121303
CREATED:20241122T182000Z
LAST-MODIFIED:20241122T183409Z
UID:39290-1734271200-1734276600@duvallperformingarts.com
SUMMARY:Nutcracker Performance
DESCRIPTION:Experience the enchanting tale of Clara and her Nutcracker! \nDuvall Performing Arts proudly presents The Nutcracker! Journey with Clara on an unforgettable adventure in the Land of Sweets. Watch as snowflakes dance\, flowers waltz\, and the sweetest delights come to life! \nIn this family-oriented\, 90 minute production\, you’ll enjoy enchanting choreography\, dazzling costume design\, and\nthe timeless music of Tchaikovsky. \nJoin us for this annual holiday tradition and make special memories to last a lifetime.
URL:https://duvallperformingarts.com/event/nutcracker-performance-4/
LOCATION:WA
CATEGORIES:Show
END:VEVENT
BEGIN:VEVENT
DTSTART;TZID=America/Los_Angeles:20241214T190000
DTEND;TZID=America/Los_Angeles:20241214T203000
DTSTAMP:20260423T121303
CREATED:20241122T181900Z
LAST-MODIFIED:20241122T183415Z
UID:39288-1734202800-1734208200@duvallperformingarts.com
SUMMARY:Nutcracker Performance
DESCRIPTION:Experience the enchanting tale of Clara and her Nutcracker! \nDuvall Performing Arts proudly presents The Nutcracker! Journey with Clara on an unforgettable adventure in the Land of Sweets. Watch as snowflakes dance\, flowers waltz\, and the sweetest delights come to life! \nIn this family-oriented\, 90 minute production\, you’ll enjoy enchanting choreography\, dazzling costume design\, and\nthe timeless music of Tchaikovsky. \nJoin us for this annual holiday tradition and make special memories to last a lifetime.
URL:https://duvallperformingarts.com/event/nutcracker-performance-3/
LOCATION:WA
CATEGORIES:Show
END:VEVENT
BEGIN:VEVENT
DTSTART;TZID=America/Los_Angeles:20241214T140000
DTEND;TZID=America/Los_Angeles:20241214T153000
DTSTAMP:20260423T121303
CREATED:20241122T181813Z
LAST-MODIFIED:20241122T183426Z
UID:39286-1734184800-1734190200@duvallperformingarts.com
SUMMARY:Nutcracker Performance
DESCRIPTION:Experience the enchanting tale of Clara and her Nutcracker! \nDuvall Performing Arts proudly presents The Nutcracker! Journey with Clara on an unforgettable adventure in the Land of Sweets. Watch as snowflakes dance\, flowers waltz\, and the sweetest delights come to life! \nIn this family-oriented\, 90 minute production\, you’ll enjoy enchanting choreography\, dazzling costume design\, and\nthe timeless music of Tchaikovsky. \nJoin us for this annual holiday tradition and make special memories to last a lifetime.
URL:https://duvallperformingarts.com/event/nutcracker-performance-2/
LOCATION:WA
CATEGORIES:Show
END:VEVENT
BEGIN:VEVENT
DTSTART;TZID=America/Los_Angeles:20241213T190000
DTEND;TZID=America/Los_Angeles:20241213T203000
DTSTAMP:20260423T121303
CREATED:20241122T181724Z
LAST-MODIFIED:20241122T183434Z
UID:39284-1734116400-1734121800@duvallperformingarts.com
SUMMARY:Nutcracker Performance
DESCRIPTION:Experience the enchanting tale of Clara and her Nutcracker! \nDuvall Performing Arts proudly presents The Nutcracker! Journey with Clara on an unforgettable adventure in the Land of Sweets. Watch as snowflakes dance\, flowers waltz\, and the sweetest delights come to life! \nIn this family-oriented\, 90 minute production\, you’ll enjoy enchanting choreography\, dazzling costume design\, and\nthe timeless music of Tchaikovsky. \nJoin us for this annual holiday tradition and make special memories to last a lifetime.
URL:https://duvallperformingarts.com/event/nutcracker-performance/
LOCATION:WA
CATEGORIES:Show
END:VEVENT
BEGIN:VEVENT
DTSTART;TZID=America/Los_Angeles:20241207T100000
DTEND;TZID=America/Los_Angeles:20241208T150000
DTSTAMP:20260423T121303
CREATED:20241122T181321Z
LAST-MODIFIED:20241122T183441Z
UID:39282-1733565600-1733670000@duvallperformingarts.com
SUMMARY:Santa/Holiday Photos @DPA
DESCRIPTION:Santa Photos are back @ DPA with Three Clicks Photography! Join us for a reserved session with Santa for photos or just the Holiday backdrop for photos. Each session includes 2 downloadable photos from the 5 minute sitting. Follow the link below to reserve your spot today!
URL:https://duvallperformingarts.com/event/santa-holiday-photos-dpa/
LOCATION:WA
CATEGORIES:Photo Shoot
END:VEVENT
BEGIN:VEVENT
DTSTART;TZID=America/Los_Angeles:20241206T180000
DTEND;TZID=America/Los_Angeles:20241206T200000
DTSTAMP:20260423T121303
CREATED:20241122T181039Z
LAST-MODIFIED:20241122T183451Z
UID:39280-1733508000-1733515200@duvallperformingarts.com
SUMMARY:Duvall Tree Lighting
DESCRIPTION:Join us at the Depot station and the parking lot by the police department for a community event welcoming in the holiday season! Come find us at our booth\, make a craft\, say Hi\, and enjoy the vendors\, community acts on the state\, and welcoming Santa and Mrs. Claus with the lighting of the tree!
URL:https://duvallperformingarts.com/event/duvall-tree-lighting/
LOCATION:WA
CATEGORIES:Party/Event
END:VEVENT
BEGIN:VEVENT
DTSTART;VALUE=DATE:20241126
DTEND;VALUE=DATE:20241201
DTSTAMP:20260423T121303
CREATED:20240924T214649Z
LAST-MODIFIED:20241122T183457Z
UID:39124-1732579200-1733011199@duvallperformingarts.com
SUMMARY:NO Classes for Thanksgiving Break
DESCRIPTION:Monday Classes on 11/25 WILL run. \nTuesday 11/26 through Saturday 11/20 classes WILL NOT run.
URL:https://duvallperformingarts.com/event/no-classes-for-thanksgiving-break/
LOCATION:Duvall Performing Arts\, 14524 Main St NE UNIT 109\, Duvall\, WA\, 98019\, United States
CATEGORIES:No Classes
END:VEVENT
BEGIN:VEVENT
DTSTART;TZID=America/Los_Angeles:20241122T080000
DTEND;TZID=America/Los_Angeles:20241122T170000
DTSTAMP:20260423T121303
CREATED:20241122T184719Z
LAST-MODIFIED:20241122T184719Z
UID:39307-1732262400-1732294800@duvallperformingarts.com
SUMMARY:Progressions Showcase
DESCRIPTION:
URL:https://duvallperformingarts.com/event/progressions-showcase-3/
LOCATION:WA
CATEGORIES:Show
END:VEVENT
BEGIN:VEVENT
DTSTART;VALUE=DATE:20241118
DTEND;VALUE=DATE:20241124
DTSTAMP:20260423T121303
CREATED:20240924T214532Z
LAST-MODIFIED:20241122T183515Z
UID:39122-1731888000-1732406399@duvallperformingarts.com
SUMMARY:Classroom Observation Week
DESCRIPTION:Parent/Adults: You are invited into the classroom to sit and be a part of your dancers entire class. Learn about their class structure\, the how’s and why’s of class\, and dance genre information shared by the instructor while teaching the class. For the dancer’s safety\, this is an “adult only” invite.
URL:https://duvallperformingarts.com/event/classroom-observation-week/
LOCATION:Duvall Performing Arts\, 14524 Main St NE UNIT 109\, Duvall\, WA\, 98019\, United States
CATEGORIES:Party/Event
END:VEVENT
BEGIN:VEVENT
DTSTART;TZID=America/Los_Angeles:20241116T190000
DTEND;TZID=America/Los_Angeles:20241116T210000
DTSTAMP:20260423T121303
CREATED:20240924T213924Z
LAST-MODIFIED:20240924T214128Z
UID:39119-1731783600-1731790800@duvallperformingarts.com
SUMMARY:Adult Salsa Night
DESCRIPTION:More info to come soon!
URL:https://duvallperformingarts.com/event/hip-hop-teen-night-3/
LOCATION:Duvall Performing Arts\, 14524 Main St NE UNIT 109\, Duvall\, WA\, 98019\, United States
END:VEVENT
BEGIN:VEVENT
DTSTART;VALUE=DATE:20241111
DTEND;VALUE=DATE:20241112
DTSTAMP:20260423T121303
CREATED:20240924T213636Z
LAST-MODIFIED:20240924T213636Z
UID:39117-1731283200-1731369599@duvallperformingarts.com
SUMMARY:CLASSES WILL RUN ON 11/11
DESCRIPTION:Classes will run on Veteran’s Day!
URL:https://duvallperformingarts.com/event/classes-will-run-on-11-11/
LOCATION:Duvall Performing Arts\, 14524 Main St NE UNIT 109\, Duvall\, WA\, 98019\, United States
END:VEVENT
BEGIN:VEVENT
DTSTART;VALUE=DATE:20241104
DTEND;VALUE=DATE:20241110
DTSTAMP:20260423T121303
CREATED:20240924T213131Z
LAST-MODIFIED:20241122T183706Z
UID:39112-1730678400-1731196799@duvallperformingarts.com
SUMMARY:FREE Trial Week
DESCRIPTION:Come try a class for FREE @ DPA this week! Register for a class and  you’ll receive a Dance Bag & NO REGISTRATION FEE! Last chance to register for attendance in the Progressions Showcase on January 11th.
URL:https://duvallperformingarts.com/event/spirit-week/
LOCATION:Duvall Performing Arts\, 14524 Main St NE UNIT 109\, Duvall\, WA\, 98019\, United States
CATEGORIES:Trial Classes
END:VEVENT
BEGIN:VEVENT
DTSTART;TZID=America/Los_Angeles:20241026T160000
DTEND;TZID=America/Los_Angeles:20241026T180000
DTSTAMP:20260423T121303
CREATED:20240924T211724Z
LAST-MODIFIED:20241122T183713Z
UID:39106-1729958400-1729965600@duvallperformingarts.com
SUMMARY:Kids Halloween Party
DESCRIPTION:Join us at DPA as we host a spooky and fun Halloween event! Wear your costume and get ready for an afternoon of games\, food\, crafts\, and fun! Glow-in-the-dark scavenger hunts\, bowling for ghosts\, and pumpkin bingo are just a few of the fun and interactive games your little goblin will participate in! Your dancer will also learn the Michael Jackson’s Thriller  dance! Space is limited. Ages 5-10. Sibling Discounts provided.
URL:https://duvallperformingarts.com/event/kids-halloween-party/
LOCATION:Duvall Performing Arts\, 14524 Main St NE UNIT 109\, Duvall\, WA\, 98019\, United States
CATEGORIES:Party/Event
END:VEVENT
BEGIN:VEVENT
DTSTART;VALUE=DATE:20241024
DTEND;VALUE=DATE:20241031
DTSTAMP:20260423T121303
CREATED:20240924T213511Z
LAST-MODIFIED:20240924T213511Z
UID:39115-1729728000-1730332799@duvallperformingarts.com
SUMMARY:Sprit Week
DESCRIPTION:Wear your Halloween costume to dance class and help us get into the SPIRIT of the season! Make sure it’s a “dance-able” costume please 😉
URL:https://duvallperformingarts.com/event/sprit-week/
LOCATION:Duvall Performing Arts\, 14524 Main St NE UNIT 109\, Duvall\, WA\, 98019\, United States
END:VEVENT
BEGIN:VEVENT
DTSTART;TZID=America/Los_Angeles:20241012T183000
DTEND;TZID=America/Los_Angeles:20241012T203000
DTSTAMP:20260423T121303
CREATED:20240924T210910Z
LAST-MODIFIED:20240924T220412Z
UID:39101-1728757800-1728765000@duvallperformingarts.com
SUMMARY:Adult 90's Hip Hop Night
DESCRIPTION:We’re bringing back the iconic era of boomboxes\, baggy pants\, and fresh beats. But that’s not all – we’re spicing it up with a dance class that’ll have you moving like a true 90’s hip-hop legend! Don’t miss out on this blast from the past! Childcare available through the website signup. Sibling discounts applied.
URL:https://duvallperformingarts.com/event/hip-hop-teen-night/
LOCATION:Duvall Performing Arts\, 14524 Main St NE UNIT 109\, Duvall\, WA\, 98019\, United States
END:VEVENT
BEGIN:VEVENT
DTSTART;TZID=America/Los_Angeles:20240928T183000
DTEND;TZID=America/Los_Angeles:20240928T203000
DTSTAMP:20260423T121303
CREATED:20240924T211319Z
LAST-MODIFIED:20240924T212601Z
UID:39104-1727548200-1727555400@duvallperformingarts.com
SUMMARY:Hip Hop Teen Night
DESCRIPTION:Calling all teens in grades 9-12: It’s time to bring your A-game and show off your best hip hop fit! Whether you’re rocking classic streetwear or the latest trends\, this is your chance to dress to impress! Bring your energy\, your style\, and your love for hip hop! Kick back and vibe with friends all night long!
URL:https://duvallperformingarts.com/event/hip-hop-teen-night-2/
LOCATION:Duvall Performing Arts\, 14524 Main St NE UNIT 109\, Duvall\, WA\, 98019\, United States
END:VEVENT
BEGIN:VEVENT
DTSTART;VALUE=DATE:20240923
DTEND;VALUE=DATE:20240928
DTSTAMP:20260423T121303
CREATED:20240924T212837Z
LAST-MODIFIED:20240924T214943Z
UID:39110-1727049600-1727481599@duvallperformingarts.com
SUMMARY:Studio SHAKE-UP Week!
DESCRIPTION:What style will YOU get?! Join us as we shake up our staff and give your dancer a new style of dance this week! They may get a new teacher for the day or their teacher may surprise them with a new style! Dancers who love their new style can sign-up and add the class to their cross-training dance schedule! Hurry and get your space before our Free Trial Week in November!
URL:https://duvallperformingarts.com/event/studio-shake-up-week/
LOCATION:Duvall Performing Arts\, 14524 Main St NE UNIT 109\, Duvall\, WA\, 98019\, United States
END:VEVENT
BEGIN:VEVENT
DTSTART;VALUE=DATE:20240914
DTEND;VALUE=DATE:20240915
DTSTAMP:20260423T121303
CREATED:20240818T211142Z
LAST-MODIFIED:20240906T025119Z
UID:39029-1726272000-1726358399@duvallperformingarts.com
SUMMARY:Nutcracker Auditions
DESCRIPTION:Ballet Petite and Levels Ballet 1\,2\,3 2:00pm-3:00pm \nBallet Levels 4 & 5\, 3:30 – 5:00pm \n$20 due at time of audition. Please wear ballet attire with hair in a bun.
URL:https://duvallperformingarts.com/event/nutcracker-auditions/
LOCATION:WA
END:VEVENT
BEGIN:VEVENT
DTSTART;VALUE=DATE:20240909
DTEND;VALUE=DATE:20240910
DTSTAMP:20260423T121303
CREATED:20240818T205256Z
LAST-MODIFIED:20240818T205256Z
UID:39027-1725840000-1725926399@duvallperformingarts.com
SUMMARY:1st Day of Dance Season 24/25
DESCRIPTION:
URL:https://duvallperformingarts.com/event/1st-day-of-dance-season-24-25/
LOCATION:WA
END:VEVENT
BEGIN:VEVENT
DTSTART;TZID=America/Los_Angeles:20240829T160000
DTEND;TZID=America/Los_Angeles:20240829T180000
DTSTAMP:20260423T121303
CREATED:20240818T204830Z
LAST-MODIFIED:20240818T204858Z
UID:39015-1724947200-1724954400@duvallperformingarts.com
SUMMARY:Back to Dance Bash
DESCRIPTION:Join us @ DPA for a celebration to kick off our 20th dance season in Duvall!
URL:https://duvallperformingarts.com/event/back-to-dance-bash/
LOCATION:Duvall Performing Arts\, 14524 Main St NE UNIT 109\, Duvall\, WA\, 98019\, United States
END:VEVENT
BEGIN:VEVENT
DTSTART;TZID=America/Los_Angeles:20240822T160000
DTEND;TZID=America/Los_Angeles:20240822T190000
DTSTAMP:20260423T121303
CREATED:20240818T205227Z
LAST-MODIFIED:20240818T205227Z
UID:39025-1724342400-1724353200@duvallperformingarts.com
SUMMARY:Ballet Bootcamp Levels 2/3 & Levels 4/5
DESCRIPTION:Sign Up for Ballet Bootcamp and get ready for the dance season!
URL:https://duvallperformingarts.com/event/ballet-bootcamp-levels-2-3-levels-4-5-2/
LOCATION:WA
END:VEVENT
BEGIN:VEVENT
DTSTART;TZID=America/Los_Angeles:20240821T160000
DTEND;TZID=America/Los_Angeles:20240821T190000
DTSTAMP:20260423T121303
CREATED:20240818T205154Z
LAST-MODIFIED:20240818T205154Z
UID:39023-1724256000-1724266800@duvallperformingarts.com
SUMMARY:Ballet Bootcamp Levels 2/3 & Levels 4/5
DESCRIPTION:Sign Up for Ballet Bootcamp and get ready for the dance season!
URL:https://duvallperformingarts.com/event/ballet-bootcamp-levels-2-3-levels-4-5/
LOCATION:WA
END:VEVENT
BEGIN:VEVENT
DTSTART;TZID=America/Los_Angeles:20240820T160000
DTEND;TZID=America/Los_Angeles:20240820T190000
DTSTAMP:20260423T121303
CREATED:20240818T205103Z
LAST-MODIFIED:20240818T205114Z
UID:39020-1724169600-1724180400@duvallperformingarts.com
SUMMARY:Ballet Bootcamp Levels 2/3 & Levels 4/5
DESCRIPTION:Sign Up for Ballet Bootcamp and get ready for the dance season!
URL:https://duvallperformingarts.com/event/ballet-bootcamp-levesl-2-3-levels-4-5/
LOCATION:WA
END:VEVENT
BEGIN:VEVENT
DTSTART;TZID=America/Los_Angeles:20240819T160000
DTEND;TZID=America/Los_Angeles:20240819T190000
DTSTAMP:20260423T121303
CREATED:20240818T205016Z
LAST-MODIFIED:20240818T205016Z
UID:39018-1724083200-1724094000@duvallperformingarts.com
SUMMARY:Ballet Bootcamp Level 2/3 & Level 4/5
DESCRIPTION:Sign Up for Ballet Bootcamp and get ready for the dance season!
URL:https://duvallperformingarts.com/event/ballet-bootcamp-level-2-3-level-4-5/
LOCATION:WA
END:VEVENT
BEGIN:VEVENT
DTSTART;VALUE=DATE:20240620
DTEND;VALUE=DATE:20240621
DTSTAMP:20260423T121303
CREATED:20220823T180840Z
LAST-MODIFIED:20240604T150002Z
UID:38390-1718841600-1718927999@duvallperformingarts.com
SUMMARY:Last Day of Classes For Advanced Division
DESCRIPTION:
URL:https://duvallperformingarts.com/event/last-day-of-classes-2/
LOCATION:Duvall Performing Arts\, 14524 Main St NE UNIT 109\, Duvall\, WA\, 98019\, United States
END:VEVENT
BEGIN:VEVENT
DTSTART;TZID=America/Los_Angeles:20240610T080000
DTEND;TZID=America/Los_Angeles:20240615T170000
DTSTAMP:20260423T121303
CREATED:20220823T180700Z
LAST-MODIFIED:20240604T150047Z
UID:38388-1718006400-1718470800@duvallperformingarts.com
SUMMARY:FREE TRIAL Week
DESCRIPTION:
URL:https://duvallperformingarts.com/event/free-trial-week-2/
LOCATION:WA
CATEGORIES:Trial Classes
END:VEVENT
BEGIN:VEVENT
DTSTART;VALUE=DATE:20240608
DTEND;VALUE=DATE:20240609
DTSTAMP:20260423T121303
CREATED:20220823T180344Z
LAST-MODIFIED:20240604T150128Z
UID:38382-1717804800-1717891199@duvallperformingarts.com
SUMMARY:Under the Sea Spring Division - Youth and Young ones Division
DESCRIPTION:
URL:https://duvallperformingarts.com/event/spring-production-youth-and-young-ones-division/
LOCATION:WA
CATEGORIES:Show
END:VEVENT
END:VCALENDAR