BEGIN:VCALENDAR
VERSION:2.0
PRODID:-//Duvall Performing Arts - ECPv6.15.18//NONSGML v1.0//EN
CALSCALE:GREGORIAN
METHOD:PUBLISH
X-ORIGINAL-URL:https://duvallperformingarts.com
X-WR-CALDESC:Events for Duvall Performing Arts
REFRESH-INTERVAL;VALUE=DURATION:PT1H
X-Robots-Tag:noindex
X-PUBLISHED-TTL:PT1H
BEGIN:VTIMEZONE
TZID:America/Vancouver
BEGIN:DAYLIGHT
TZOFFSETFROM:-0800
TZOFFSETTO:-0700
TZNAME:PDT
DTSTART:20170312T100000
END:DAYLIGHT
BEGIN:STANDARD
TZOFFSETFROM:-0700
TZOFFSETTO:-0800
TZNAME:PST
DTSTART:20171105T090000
END:STANDARD
BEGIN:DAYLIGHT
TZOFFSETFROM:-0800
TZOFFSETTO:-0700
TZNAME:PDT
DTSTART:20180311T100000
END:DAYLIGHT
BEGIN:STANDARD
TZOFFSETFROM:-0700
TZOFFSETTO:-0800
TZNAME:PST
DTSTART:20181104T090000
END:STANDARD
BEGIN:DAYLIGHT
TZOFFSETFROM:-0800
TZOFFSETTO:-0700
TZNAME:PDT
DTSTART:20190310T100000
END:DAYLIGHT
BEGIN:STANDARD
TZOFFSETFROM:-0700
TZOFFSETTO:-0800
TZNAME:PST
DTSTART:20191103T090000
END:STANDARD
BEGIN:DAYLIGHT
TZOFFSETFROM:-0800
TZOFFSETTO:-0700
TZNAME:PDT
DTSTART:20200308T100000
END:DAYLIGHT
BEGIN:STANDARD
TZOFFSETFROM:-0700
TZOFFSETTO:-0800
TZNAME:PST
DTSTART:20201101T090000
END:STANDARD
END:VTIMEZONE
BEGIN:VEVENT
DTSTART;VALUE=DATE:20190501
DTEND;VALUE=DATE:20190502
DTSTAMP:20260424T002921
CREATED:20190403T222419Z
LAST-MODIFIED:20190403T222419Z
UID:1504-1556668800-1556755199@duvallperformingarts.com
SUMMARY:Ticket Pre-sales Begin for Peter Pan
DESCRIPTION:Ticket pre-sales begin for Peter Pan\, online only at www.tututix.com\n4 tickets allotted per DPA family until May 20th.
URL:https://duvallperformingarts.com/event/ticket-pre-sales-begin-for-peter-pan/
CATEGORIES:Show
END:VEVENT
BEGIN:VEVENT
DTSTART;VALUE=DATE:20190408
DTEND;VALUE=DATE:20190414
DTSTAMP:20260424T002921
CREATED:20190403T222141Z
LAST-MODIFIED:20190403T222141Z
UID:1502-1554681600-1555199999@duvallperformingarts.com
SUMMARY:Spring Break\, NO CLASSES
DESCRIPTION:Spring Break\, NO CLASSES
URL:https://duvallperformingarts.com/event/spring-break-no-classes-2/
CATEGORIES:No Classes
END:VEVENT
BEGIN:VEVENT
DTSTART;VALUE=DATE:20190401
DTEND;VALUE=DATE:20190402
DTSTAMP:20260424T002921
CREATED:20190403T215923Z
LAST-MODIFIED:20190403T215923Z
UID:1500-1554076800-1554163199@duvallperformingarts.com
SUMMARY:Ticket Sales Begin for Student Show of Neverland
DESCRIPTION:Ticket sales begin for student show of Neverland on May 9th at 6:00pm (available only at DPA)
URL:https://duvallperformingarts.com/event/ticket-sales-begin-for-student-show-of-neverland/
CATEGORIES:Show
END:VEVENT
BEGIN:VEVENT
DTSTART;VALUE=DATE:20190105
DTEND;VALUE=DATE:20190106
DTSTAMP:20260424T002921
CREATED:20181111T034637Z
LAST-MODIFIED:20181111T034637Z
UID:1420-1546646400-1546732799@duvallperformingarts.com
SUMMARY:Classes Resume
DESCRIPTION:
URL:https://duvallperformingarts.com/event/classes-resume/
CATEGORIES:Class
END:VEVENT
BEGIN:VEVENT
DTSTART;VALUE=DATE:20181222
DTEND;VALUE=DATE:20190104
DTSTAMP:20260424T002921
CREATED:20181111T034537Z
LAST-MODIFIED:20181111T034537Z
UID:1418-1545436800-1546559999@duvallperformingarts.com
SUMMARY:Holiday Break
DESCRIPTION:NO CLASSES
URL:https://duvallperformingarts.com/event/holiday-break/
CATEGORIES:No Classes
END:VEVENT
BEGIN:VEVENT
DTSTART;VALUE=DATE:20181215
DTEND;VALUE=DATE:20181216
DTSTAMP:20260424T002921
CREATED:20181111T031842Z
LAST-MODIFIED:20181111T031842Z
UID:1410-1544832000-1544918399@duvallperformingarts.com
SUMMARY:Winter Showcase
DESCRIPTION:Winter Showcase \n10:00am\, 12:30pm\, and 3:00pm performances at Cedarcrest High School. \nTickets on sale at tututix.com. Family tickets on sale Monday\, November 12. General public tickets on sale Monday\, December 3rd.
URL:https://duvallperformingarts.com/event/winter-showcase/
CATEGORIES:Show
END:VEVENT
BEGIN:VEVENT
DTSTART;TZID=America/Vancouver:20181208T120000
DTEND;TZID=America/Vancouver:20181208T180000
DTSTAMP:20260424T002921
CREATED:20181111T032805Z
LAST-MODIFIED:20181111T032805Z
UID:1412-1544270400-1544292000@duvallperformingarts.com
SUMMARY:Drop and Shop Fundraiser
DESCRIPTION:Drop your children at DPA while you are getting holiday shopping or errands done! Dancing\, games\, food\, and fun!!! 12-3pm or 3-6pm. $20 per child\, donations welcomed.
URL:https://duvallperformingarts.com/event/drop-and-shop-fundraiser/
END:VEVENT
BEGIN:VEVENT
DTSTART;VALUE=DATE:20181208
DTEND;VALUE=DATE:20181214
DTSTAMP:20260424T002921
CREATED:20181111T035005Z
LAST-MODIFIED:20181111T035005Z
UID:1422-1544227200-1544745599@duvallperformingarts.com
SUMMARY:Dress Rehearsal in class
DESCRIPTION:Winter Showcase Dress Rehearsals during regular class hour
URL:https://duvallperformingarts.com/event/dress-rehearsal-in-class/
CATEGORIES:Rehearsal
END:VEVENT
BEGIN:VEVENT
DTSTART;TZID=America/Vancouver:20181207T180000
DTEND;TZID=America/Vancouver:20181207T193000
DTSTAMP:20260424T002921
CREATED:20181111T033811Z
LAST-MODIFIED:20181111T033811Z
UID:1414-1544205600-1544211000@duvallperformingarts.com
SUMMARY:Duvall's Tree Lighting Event
DESCRIPTION:Come watch our Performance Division dancers and our Hip Hop Minions at the Duvall Tree Lighting Ceremony down at Depot Park. (By the Duvall Police Station) Get your picture taken with Santa and our DPA dancing reindeers\, and be sure to stop by the DPA booth for some fun crafts.
URL:https://duvallperformingarts.com/event/duvalls-tree-lighting-event/
END:VEVENT
BEGIN:VEVENT
DTSTART;VALUE=DATE:20181121
DTEND;VALUE=DATE:20181125
DTSTAMP:20260424T002921
CREATED:20181111T034223Z
LAST-MODIFIED:20181111T034223Z
UID:1416-1542758400-1543103999@duvallperformingarts.com
SUMMARY:Thanksgiving Break
DESCRIPTION:NO CLASSES
URL:https://duvallperformingarts.com/event/thanksgiving-break/
CATEGORIES:No Classes
END:VEVENT
BEGIN:VEVENT
DTSTART;TZID=America/Vancouver:20180616T080000
DTEND;TZID=America/Vancouver:20180616T170000
DTSTAMP:20260424T002921
CREATED:20180416T063355Z
LAST-MODIFIED:20180416T063355Z
UID:1296-1529136000-1529168400@duvallperformingarts.com
SUMMARY:Make-up day for Saturday classes
DESCRIPTION:Make-up day for Saturday classes (classes missed due to Parade)
URL:https://duvallperformingarts.com/event/make-up-day-for-saturday-classes/
CATEGORIES:Class
END:VEVENT
BEGIN:VEVENT
DTSTART;VALUE=DATE:20180609
DTEND;VALUE=DATE:20180610
DTSTAMP:20260424T002921
CREATED:20180416T063314Z
LAST-MODIFIED:20180416T063314Z
UID:1294-1528502400-1528588799@duvallperformingarts.com
SUMMARY:Last day of regular classes
DESCRIPTION:Last day of regular classes – SEE SUMMER CAMPS for more dance!
URL:https://duvallperformingarts.com/event/last-day-of-regular-classes/
CATEGORIES:Class
END:VEVENT
BEGIN:VEVENT
DTSTART;VALUE=DATE:20180604
DTEND;VALUE=DATE:20180610
DTSTAMP:20260424T002921
CREATED:20180416T063140Z
LAST-MODIFIED:20180416T063140Z
UID:1292-1528070400-1528588799@duvallperformingarts.com
SUMMARY:Free Trial Week
DESCRIPTION:Free Trial Week – drop into any class (age/level appropriate) for no charge! *Level 3 & under only
URL:https://duvallperformingarts.com/event/free-trial-week/
CATEGORIES:Trial Classes
END:VEVENT
BEGIN:VEVENT
DTSTART;TZID=America/Vancouver:20180602T080000
DTEND;TZID=America/Vancouver:20180602T110000
DTSTAMP:20260424T002921
CREATED:20180416T062920Z
LAST-MODIFIED:20180416T062920Z
UID:1288-1527926400-1527937200@duvallperformingarts.com
SUMMARY:Parade Rehearsal 8am @DPA\, Duvall Days Parade @11am (open for details)
DESCRIPTION:Parade Rehearsal 8am @DPA\, Parade @11am – wear Be Our Guest t-\nshirt\nKiddie Parade (ages 3-5yrs) – meet Ms.Kathleen @Family Grocer – wear recital\ncostume! Time TBA
URL:https://duvallperformingarts.com/event/parade-rehearsal-8am-dpa-duvall-days-parade-11am-open-for-details/
END:VEVENT
BEGIN:VEVENT
DTSTART;VALUE=DATE:20180602
DTEND;VALUE=DATE:20180603
DTSTAMP:20260424T002921
CREATED:20180416T062954Z
LAST-MODIFIED:20180416T062954Z
UID:1290-1527897600-1527983999@duvallperformingarts.com
SUMMARY:No Regular Classes
DESCRIPTION:
URL:https://duvallperformingarts.com/event/no-regular-classes-2/
CATEGORIES:No Classes
END:VEVENT
BEGIN:VEVENT
DTSTART;VALUE=DATE:20180531
DTEND;VALUE=DATE:20180602
DTSTAMP:20260424T002921
CREATED:20180416T062130Z
LAST-MODIFIED:20180416T062130Z
UID:1282-1527724800-1527897599@duvallperformingarts.com
SUMMARY:Photo Shoot (during classes) – come in full costume
DESCRIPTION:
URL:https://duvallperformingarts.com/event/photo-shoot-during-classes-come-in-full-costume-2/
CATEGORIES:Photo Shoot
END:VEVENT
BEGIN:VEVENT
DTSTART;TZID=America/Vancouver:20180529T191500
DTEND;TZID=America/Vancouver:20180529T203000
DTSTAMP:20260424T002921
CREATED:20180416T062655Z
LAST-MODIFIED:20180416T062655Z
UID:1286-1527621300-1527625800@duvallperformingarts.com
SUMMARY:Parade Rehearsal (1st grade & up) 7:15-8:30pm
DESCRIPTION:
URL:https://duvallperformingarts.com/event/parade-rehearsal-1st-grade-up-715-830pm/
CATEGORIES:Rehearsal
END:VEVENT
BEGIN:VEVENT
DTSTART;VALUE=DATE:20180526
DTEND;VALUE=DATE:20180529
DTSTAMP:20260424T002921
CREATED:20180416T062233Z
LAST-MODIFIED:20180416T062233Z
UID:1284-1527292800-1527551999@duvallperformingarts.com
SUMMARY:NO CLASSES for Memorial Day Weekend
DESCRIPTION:
URL:https://duvallperformingarts.com/event/no-classes-for-memorial-day-weekend/
CATEGORIES:No Classes
END:VEVENT
BEGIN:VEVENT
DTSTART;VALUE=DATE:20180521
DTEND;VALUE=DATE:20180524
DTSTAMP:20260424T002921
CREATED:20180416T062030Z
LAST-MODIFIED:20180416T062030Z
UID:1280-1526860800-1527119999@duvallperformingarts.com
SUMMARY:Photo Shoot (during classes) – come in full costume
DESCRIPTION:
URL:https://duvallperformingarts.com/event/photo-shoot-during-classes-come-in-full-costume/
CATEGORIES:Photo Shoot
END:VEVENT
BEGIN:VEVENT
DTSTART;TZID=America/Vancouver:20180519T160000
DTEND;TZID=America/Vancouver:20180519T170000
DTSTAMP:20260424T002921
CREATED:20180416T061833Z
LAST-MODIFIED:20180416T061833Z
UID:1278-1526745600-1526749200@duvallperformingarts.com
SUMMARY:Beauty & the Beast (level 3 & under) CAST C\, 4pm @CHS
DESCRIPTION:
URL:https://duvallperformingarts.com/event/beauty-the-beast-level-3-under-10am-chs-2-2/
CATEGORIES:Show
END:VEVENT
BEGIN:VEVENT
DTSTART;TZID=America/Vancouver:20180519T130000
DTEND;TZID=America/Vancouver:20180519T140000
DTSTAMP:20260424T002921
CREATED:20180416T061752Z
LAST-MODIFIED:20180416T061752Z
UID:1276-1526734800-1526738400@duvallperformingarts.com
SUMMARY:Beauty & the Beast (level 3 & under) CAST B\, 1pm @CHS
DESCRIPTION:
URL:https://duvallperformingarts.com/event/beauty-the-beast-level-3-under-10am-chs-2/
CATEGORIES:Show
END:VEVENT
BEGIN:VEVENT
DTSTART;TZID=America/Vancouver:20180519T100000
DTEND;TZID=America/Vancouver:20180519T230000
DTSTAMP:20260424T002921
CREATED:20180416T060827Z
LAST-MODIFIED:20180416T060827Z
UID:1270-1526724000-1526770800@duvallperformingarts.com
SUMMARY:Beauty & the Beast (level 3 & under) CAST A\, 10am @CHS
DESCRIPTION:
URL:https://duvallperformingarts.com/event/beauty-the-beast-level-3-under-10am-chs/
CATEGORIES:Show
END:VEVENT
BEGIN:VEVENT
DTSTART;VALUE=DATE:20180515
DTEND;VALUE=DATE:20180519
DTSTAMP:20260424T002921
CREATED:20180416T060654Z
LAST-MODIFIED:20180416T060654Z
UID:1268-1526342400-1526687999@duvallperformingarts.com
SUMMARY:Classes as usual
DESCRIPTION:
URL:https://duvallperformingarts.com/event/classes-as-usual/
CATEGORIES:Class
END:VEVENT
BEGIN:VEVENT
DTSTART;VALUE=DATE:20180514
DTEND;VALUE=DATE:20180515
DTSTAMP:20260424T002921
CREATED:20180416T060541Z
LAST-MODIFIED:20180416T060541Z
UID:1266-1526256000-1526342399@duvallperformingarts.com
SUMMARY:NO REGULAR CLASSES
DESCRIPTION:
URL:https://duvallperformingarts.com/event/no-regular-classes/
CATEGORIES:No Classes
END:VEVENT
BEGIN:VEVENT
DTSTART;VALUE=DATE:20180514
DTEND;VALUE=DATE:20180515
DTSTAMP:20260424T002921
CREATED:20180416T060453Z
LAST-MODIFIED:20180416T060453Z
UID:1264-1526256000-1526342399@duvallperformingarts.com
SUMMARY:Dress Rehearsal for Beauty & the Beast (level 3 & under) @CHS
DESCRIPTION:
URL:https://duvallperformingarts.com/event/dress-rehearsal-for-beauty-the-beast-level-3-under-chs/
CATEGORIES:Rehearsal
END:VEVENT
BEGIN:VEVENT
DTSTART;TZID=America/Vancouver:20180512T190000
DTEND;TZID=America/Vancouver:20180512T200000
DTSTAMP:20260424T002921
CREATED:20180416T060135Z
LAST-MODIFIED:20180416T060135Z
UID:1258-1526151600-1526155200@duvallperformingarts.com
SUMMARY:Be Our Guest (level 4-5) 7pm @CHS
DESCRIPTION:
URL:https://duvallperformingarts.com/event/be-our-guest-level-4-5-7pm-chs/
CATEGORIES:Show
END:VEVENT
BEGIN:VEVENT
DTSTART;TZID=America/Vancouver:20180512T140000
DTEND;TZID=America/Vancouver:20180512T153000
DTSTAMP:20260424T002921
CREATED:20180416T060039Z
LAST-MODIFIED:20180416T060039Z
UID:1256-1526133600-1526139000@duvallperformingarts.com
SUMMARY:Be Our Guest (level 4-5) 2pm @CHS
DESCRIPTION:
URL:https://duvallperformingarts.com/event/be-our-guest-level-4-5-2pm-chs/
CATEGORIES:Show
END:VEVENT
BEGIN:VEVENT
DTSTART;VALUE=DATE:20180512
DTEND;VALUE=DATE:20180513
DTSTAMP:20260424T002921
CREATED:20180416T060330Z
LAST-MODIFIED:20180416T060330Z
UID:1260-1526083200-1526169599@duvallperformingarts.com
SUMMARY:Tiny Tutu & Creative Movement classes @DPA studio
DESCRIPTION:
URL:https://duvallperformingarts.com/event/tiny-tutu-creative-movement-classes-dpa-studio/
CATEGORIES:Class
END:VEVENT
BEGIN:VEVENT
DTSTART;TZID=America/Vancouver:20180510T180000
DTEND;TZID=America/Vancouver:20180510T193000
DTSTAMP:20260424T002921
CREATED:20180416T055840Z
LAST-MODIFIED:20180416T055840Z
UID:1253-1525975200-1525980600@duvallperformingarts.com
SUMMARY:Be Our Guest (level 4-5) – Student Show\, 6PM @CHS
DESCRIPTION:
URL:https://duvallperformingarts.com/event/be-our-guest-level-4-5-student-show/
CATEGORIES:Show
END:VEVENT
BEGIN:VEVENT
DTSTART;VALUE=DATE:20180509
DTEND;VALUE=DATE:20180510
DTSTAMP:20260424T002921
CREATED:20180416T055155Z
LAST-MODIFIED:20180416T055155Z
UID:1250-1525824000-1525910399@duvallperformingarts.com
SUMMARY:Dress Rehearsal for Be Our Guest (level 4-5) @CHS
DESCRIPTION:
URL:https://duvallperformingarts.com/event/dress-rehearsal-for-be-our-guest-level-4-5-chs/
CATEGORIES:Rehearsal
END:VEVENT
END:VCALENDAR