BEGIN:VCALENDAR
VERSION:2.0
PRODID:-//Duvall Performing Arts - ECPv6.15.18//NONSGML v1.0//EN
CALSCALE:GREGORIAN
METHOD:PUBLISH
X-WR-CALNAME:Duvall Performing Arts
X-ORIGINAL-URL:https://duvallperformingarts.com
X-WR-CALDESC:Events for Duvall Performing Arts
REFRESH-INTERVAL;VALUE=DURATION:PT1H
X-Robots-Tag:noindex
X-PUBLISHED-TTL:PT1H
BEGIN:VTIMEZONE
TZID:America/Los_Angeles
BEGIN:DAYLIGHT
TZOFFSETFROM:-0800
TZOFFSETTO:-0700
TZNAME:PDT
DTSTART:20230312T100000
END:DAYLIGHT
BEGIN:STANDARD
TZOFFSETFROM:-0700
TZOFFSETTO:-0800
TZNAME:PST
DTSTART:20231105T090000
END:STANDARD
BEGIN:DAYLIGHT
TZOFFSETFROM:-0800
TZOFFSETTO:-0700
TZNAME:PDT
DTSTART:20240310T100000
END:DAYLIGHT
BEGIN:STANDARD
TZOFFSETFROM:-0700
TZOFFSETTO:-0800
TZNAME:PST
DTSTART:20241103T090000
END:STANDARD
BEGIN:DAYLIGHT
TZOFFSETFROM:-0800
TZOFFSETTO:-0700
TZNAME:PDT
DTSTART:20250309T100000
END:DAYLIGHT
BEGIN:STANDARD
TZOFFSETFROM:-0700
TZOFFSETTO:-0800
TZNAME:PST
DTSTART:20251102T090000
END:STANDARD
BEGIN:DAYLIGHT
TZOFFSETFROM:-0800
TZOFFSETTO:-0700
TZNAME:PDT
DTSTART:20260308T100000
END:DAYLIGHT
BEGIN:STANDARD
TZOFFSETFROM:-0700
TZOFFSETTO:-0800
TZNAME:PST
DTSTART:20261101T090000
END:STANDARD
END:VTIMEZONE
BEGIN:VEVENT
DTSTART;VALUE=DATE:20250607
DTEND;VALUE=DATE:20250608
DTSTAMP:20260423T092025
CREATED:20250210T195746Z
LAST-MODIFIED:20250210T195746Z
UID:39435-1749254400-1749340799@duvallperformingarts.com
SUMMARY:Duvall Days Parade Performance & Booth
DESCRIPTION:Join us downtown Duvall for the annual Duvall Days Parade and community event all day June 7th. Our youngest dancers will be in the Kiddie parent at 10:30 followed by the choreographed dancers in the Main Parade! Be sure to stop by our booth and say Hi!
URL:https://duvallperformingarts.com/event/duvall-days-parade-performance-booth/
CATEGORIES:Party/Event
END:VEVENT
BEGIN:VEVENT
DTSTART;VALUE=DATE:20250602
DTEND;VALUE=DATE:20250607
DTSTAMP:20260423T092025
CREATED:20250210T194726Z
LAST-MODIFIED:20250314T171809Z
UID:39419-1748822400-1749254399@duvallperformingarts.com
SUMMARY:Picture Week
DESCRIPTION:Students will arrive IN costume with hair/shoes/make-up (advanced division only) for scheduled photos. Individual and group photos will be taken by Ariella Noelle Photography. Please check the time schedule emailed to you for an accurate arrival time. A link to purchase photos will be sent to you when ready for viewing. Please note: For those in the Young Ones’ Division… your child will also have a DRESS REHEARSAL this day. Timeliness is crucial as the photo schedule runs tight! Thank you and we can’t wait to see your smiles!
URL:https://duvallperformingarts.com/event/picture-week-2/
LOCATION:Duvall Performing Arts\, 14524 Main St NE UNIT 109\, Duvall\, WA\, 98019\, United States
CATEGORIES:Photo Shoot
END:VEVENT
BEGIN:VEVENT
DTSTART;TZID=America/Los_Angeles:20250601T180000
DTEND;TZID=America/Los_Angeles:20250601T200000
DTSTAMP:20260423T092025
CREATED:20250210T195530Z
LAST-MODIFIED:20250314T171730Z
UID:39433-1748800800-1748808000@duvallperformingarts.com
SUMMARY:ENCORE! Dancing through 20 Seasons of Dance
DESCRIPTION:Join us as we celebrate our 20th Season with a special Retrospectives show! We’ll include\, slides\, videos\, and special performances reborn from our 20 years of dancing in the Valley!
URL:https://duvallperformingarts.com/event/20th-season-retrospective-show/
LOCATION:Cedarcrest Highschool\, 29000 150th St. NE\, Duvall\, WA\, 98019\, United States
CATEGORIES:Show
END:VEVENT
BEGIN:VEVENT
DTSTART;TZID=America/Los_Angeles:20250601T130000
DTEND;TZID=America/Los_Angeles:20250601T143000
DTSTAMP:20260423T092025
CREATED:20250210T195407Z
LAST-MODIFIED:20250210T195407Z
UID:39431-1748782800-1748788200@duvallperformingarts.com
SUMMARY:Barbie Spring Performance
DESCRIPTION:Join us for our Barbie Spring Performance!
URL:https://duvallperformingarts.com/event/barbie-spring-performance-4/
LOCATION:Cedarcrest Highschool\, 29000 150th St. NE\, Duvall\, WA\, 98019\, United States
CATEGORIES:Show
END:VEVENT
BEGIN:VEVENT
DTSTART;TZID=America/Los_Angeles:20250531T160000
DTEND;TZID=America/Los_Angeles:20250531T173000
DTSTAMP:20260423T092025
CREATED:20250210T195304Z
LAST-MODIFIED:20250210T195304Z
UID:39429-1748707200-1748712600@duvallperformingarts.com
SUMMARY:Barbie Spring Performance
DESCRIPTION:Join us for our Barbie Spring Performance!
URL:https://duvallperformingarts.com/event/barbie-spring-performance-3/
LOCATION:Cedarcrest Highschool\, 29000 150th St. NE\, Duvall\, WA\, 98019\, United States
CATEGORIES:Show
END:VEVENT
BEGIN:VEVENT
DTSTART;TZID=America/Los_Angeles:20250531T130000
DTEND;TZID=America/Los_Angeles:20250531T143000
DTSTAMP:20260423T092025
CREATED:20250210T195225Z
LAST-MODIFIED:20250210T195225Z
UID:39427-1748696400-1748701800@duvallperformingarts.com
SUMMARY:Barbie Spring Performance
DESCRIPTION:Join us for our Barbie Spring Performance
URL:https://duvallperformingarts.com/event/barbie-spring-performance-2/
LOCATION:Cedarcrest Highschool\, 29000 150th St. NE\, Duvall\, WA\, 98019\, United States
CATEGORIES:Show
END:VEVENT
BEGIN:VEVENT
DTSTART;TZID=America/Los_Angeles:20250531T100000
DTEND;TZID=America/Los_Angeles:20250531T113000
DTSTAMP:20260423T092025
CREATED:20250210T195140Z
LAST-MODIFIED:20250210T200609Z
UID:39425-1748685600-1748691000@duvallperformingarts.com
SUMMARY:Barbie Spring Performance
DESCRIPTION:Join us for our Barbie Spring Performance!
URL:https://duvallperformingarts.com/event/barbie-spring-performance/
LOCATION:Cedarcrest Highschool\, 29000 150th St. NE\, Duvall\, WA\, 98019\, United States
CATEGORIES:Show
END:VEVENT
BEGIN:VEVENT
DTSTART;TZID=America/Los_Angeles:20250530T163000
DTEND;TZID=America/Los_Angeles:20250530T203000
DTSTAMP:20260423T092025
CREATED:20250210T195006Z
LAST-MODIFIED:20250210T195006Z
UID:39423-1748622600-1748637000@duvallperformingarts.com
SUMMARY:Dress Rehearsal @ Cedarcrest High School
DESCRIPTION:DPA Families: you will receive a timed schedule of when your dancer should be at Cedarcrest High School for their Dress Rehearsal. If in multiple dances\, please just wear your first costume\, but bring other shoes as needed for other dances.
URL:https://duvallperformingarts.com/event/dress-rehearsal-cedarcrest-high-school/
CATEGORIES:Rehearsal
END:VEVENT
BEGIN:VEVENT
DTSTART;VALUE=DATE:20250526
DTEND;VALUE=DATE:20250527
DTSTAMP:20260423T092025
CREATED:20250210T194819Z
LAST-MODIFIED:20250210T194819Z
UID:39421-1748217600-1748303999@duvallperformingarts.com
SUMMARY:NO CLASSES
DESCRIPTION:DPA closed for Memorial Day
URL:https://duvallperformingarts.com/event/no-classes/
CATEGORIES:No Classes
END:VEVENT
BEGIN:VEVENT
DTSTART;TZID=America/Los_Angeles:20250419T183000
DTEND;TZID=America/Los_Angeles:20250419T203000
DTSTAMP:20260423T092025
CREATED:20250210T193146Z
LAST-MODIFIED:20250210T193422Z
UID:39411-1745087400-1745094600@duvallperformingarts.com
SUMMARY:Hip Hop Teen Night
DESCRIPTION:Calling all teens in grades 9-12: It’s time to bring your A-game and show off your best hip hop fit! Bring your energy\, your style\, and your love for hip hop. Register through the DPA website under Class/Programs: COMMUNITY EVENTS!
URL:https://duvallperformingarts.com/event/hip-hop-teen-night-4/
CATEGORIES:Party/Event
END:VEVENT
BEGIN:VEVENT
DTSTART;VALUE=DATE:20250414
DTEND;VALUE=DATE:20250420
DTSTAMP:20260423T092025
CREATED:20250210T193803Z
LAST-MODIFIED:20250210T194322Z
UID:39417-1744588800-1745107199@duvallperformingarts.com
SUMMARY:Spring Assessments
DESCRIPTION:Studio Directors will sit in classes and observe for end of year skills and placement for the Fall.
URL:https://duvallperformingarts.com/event/spring-assessments/
CATEGORIES:Party/Event
END:VEVENT
BEGIN:VEVENT
DTSTART;VALUE=DATE:20250407
DTEND;VALUE=DATE:20250413
DTSTAMP:20260423T092025
CREATED:20250210T193619Z
LAST-MODIFIED:20250210T193619Z
UID:39415-1743984000-1744502399@duvallperformingarts.com
SUMMARY:Spring Break
DESCRIPTION:DPA closed for Spring Break!
URL:https://duvallperformingarts.com/event/spring-break-2/
CATEGORIES:No Classes
END:VEVENT
BEGIN:VEVENT
DTSTART;TZID=America/Los_Angeles:20250314T113000
DTEND;TZID=America/Los_Angeles:20250314T123000
DTSTAMP:20260423T092025
CREATED:20250314T171332Z
LAST-MODIFIED:20250314T171853Z
UID:39459-1741951800-1741955400@duvallperformingarts.com
SUMMARY:Josh Scribner Intermediate Tap Workshop
DESCRIPTION:Join Josh Scribner\, founder of Alchemy Tap Project\, for an Intermediate level tap workshop! Go to DPA website\, make an account on Studio Pro\, and register by purchasing a ticket in the Portal Store from the Community Events page! \nIntermediate Workshop 11:30-12:30  $25
URL:https://duvallperformingarts.com/event/josh-scribner-tap-workshop-intermediate/
LOCATION:Duvall Performing Arts\, 14524 Main St NE UNIT 109\, Duvall\, WA\, 98019\, United States
CATEGORIES:Class
END:VEVENT
BEGIN:VEVENT
DTSTART;TZID=America/Los_Angeles:20250314T100000
DTEND;TZID=America/Los_Angeles:20250314T113000
DTSTAMP:20260423T092025
CREATED:20250314T171554Z
LAST-MODIFIED:20250314T171916Z
UID:39461-1741946400-1741951800@duvallperformingarts.com
SUMMARY:Josh Scribner Advanced Tap Workshop
DESCRIPTION:Join Josh Scribner\, founder of Alchemy Tap Project\, for an Advanced Tap Workshop. Go to DPA website\, make an account on Studio Pro\, and register by purchasing a ticket in the Portal Store from the Community Events page! \n10-11:30am ($30)
URL:https://duvallperformingarts.com/event/josh-scribner-advanced-tap-workshop/
LOCATION:Duvall Performing Arts\, 14524 Main St NE UNIT 109\, Duvall\, WA\, 98019\, United States
CATEGORIES:Class
END:VEVENT
BEGIN:VEVENT
DTSTART;TZID=America/Los_Angeles:20250302T190000
DTEND;TZID=America/Los_Angeles:20250302T210000
DTSTAMP:20260423T092025
CREATED:20250210T193337Z
LAST-MODIFIED:20250210T193337Z
UID:39413-1740942000-1740949200@duvallperformingarts.com
SUMMARY:Adult Salsa Night
DESCRIPTION:Adult Salsa Night @ DPA! Come solo or bring a partner\, either way your hips will be moving to the beat! Register through the DPA website under Class/Programs: COMMUNITY EVENTS!
URL:https://duvallperformingarts.com/event/adult-salsa-night/
LOCATION:Duvall Performing Arts\, 14524 Main St NE UNIT 109\, Duvall\, WA\, 98019\, United States
CATEGORIES:Party/Event
END:VEVENT
BEGIN:VEVENT
DTSTART;TZID=America/Los_Angeles:20250215T150000
DTEND;TZID=America/Los_Angeles:20250215T170000
DTSTAMP:20260423T092025
CREATED:20250210T192720Z
LAST-MODIFIED:20250210T192826Z
UID:39407-1739631600-1739638800@duvallperformingarts.com
SUMMARY:Sweethearts Dance
DESCRIPTION:Join us for a magical evening of music\, laughter\, and cherished memories at our Sweetheart Dance! This event is designed to bring kids and their grownups together for a fun-filled night of dancing\, delicious treats\, and unforgettable moments. Whether you’re sharing a special dance with a parent\, grandparent\, or other important adult in your life\, this is the perfect opportunity to create lasting memories. \nCome dressed in your best\, and get ready to twirl\, laugh\, and make new memories that will be talked about for years to come! \nThis price includes the cost for one adult and one child. For additional children or adults\, please add Extra Child and/or Extra Adult to your shopping cart. Thank you.
URL:https://duvallperformingarts.com/event/sweethearts-dance/
LOCATION:Duvall Performing Arts\, 14524 Main St NE UNIT 109\, Duvall\, WA\, 98019\, United States
CATEGORIES:Party/Event
END:VEVENT
BEGIN:VEVENT
DTSTART;VALUE=DATE:20250214
DTEND;VALUE=DATE:20250218
DTSTAMP:20260423T092025
CREATED:20250210T192943Z
LAST-MODIFIED:20250210T192943Z
UID:39409-1739491200-1739836799@duvallperformingarts.com
SUMMARY:Classes WILL meet over Mid-Winter Break
DESCRIPTION:DPA will hold dance classes over Mid-Winter Break… all classes on 2/14\, 2/15\, 2/17 will be held as usual.
URL:https://duvallperformingarts.com/event/classes-will-meet-over-mid-winter-break/
CATEGORIES:Class
END:VEVENT
BEGIN:VEVENT
DTSTART;VALUE=DATE:20250113
DTEND;VALUE=DATE:20250119
DTSTAMP:20260423T092025
CREATED:20241122T190140Z
LAST-MODIFIED:20241122T190140Z
UID:39316-1736726400-1737244799@duvallperformingarts.com
SUMMARY:Jump Into the New Year! 7 Day Class Pass
DESCRIPTION:Check out our classes @ DPA with a 7 day class pass for $20! All new dancer registrations will receive 1/2 price registration! Follow the link below to fill our a Trial Class form and we’ll collect your $20 fee at your first class for the week!
URL:https://duvallperformingarts.com/event/jump-into-the-new-year-7-day-class-pass/
CATEGORIES:Trial Classes
END:VEVENT
BEGIN:VEVENT
DTSTART;TZID=America/Los_Angeles:20250111T160000
DTEND;TZID=America/Los_Angeles:20250111T170000
DTSTAMP:20260423T092025
CREATED:20241122T184750Z
LAST-MODIFIED:20241122T184929Z
UID:39309-1736611200-1736614800@duvallperformingarts.com
SUMMARY:Progressions Showcase
DESCRIPTION:Progressions Showcase is our first performance of the dance season and is a great example of what our dancers class looks like on stage! We will show you the progressions of our classes from Mini Movers (age 3) through Level 5. Your dancer is excited to show you their new class skills in a piece of choreography under the big lights!
URL:https://duvallperformingarts.com/event/progressions-showcase-4/
CATEGORIES:Show
END:VEVENT
BEGIN:VEVENT
DTSTART;TZID=America/Los_Angeles:20250111T140000
DTEND;TZID=America/Los_Angeles:20250111T150000
DTSTAMP:20260423T092025
CREATED:20241122T185132Z
LAST-MODIFIED:20241122T185132Z
UID:39313-1736604000-1736607600@duvallperformingarts.com
SUMMARY:Progressions Showcase
DESCRIPTION:Progressions Showcase is our first performance of the dance season and is a great example of what our dancers class looks like on stage! We will show you the progressions of our classes from Mini Movers (age 3) through Level 5. Your dancer is excited to show you their new class skills in a piece of choreography under the big lights!
URL:https://duvallperformingarts.com/event/progressions-showcase-5/
CATEGORIES:Show
END:VEVENT
BEGIN:VEVENT
DTSTART;TZID=America/Los_Angeles:20250111T120000
DTEND;TZID=America/Los_Angeles:20250111T130000
DTSTAMP:20260423T092025
CREATED:20241122T184649Z
LAST-MODIFIED:20241122T184952Z
UID:39305-1736596800-1736600400@duvallperformingarts.com
SUMMARY:Progressions Showcase
DESCRIPTION:Progressions Showcase is our first performance of the dance season and is a great example of what our dancers class looks like on stage! We will show you the progressions of our classes from Mini Movers (age 3) through Level 5. Your dancer is excited to show you their new class skills in a piece of choreography under the big lights!
URL:https://duvallperformingarts.com/event/progressions-showcase-2/
CATEGORIES:Show
END:VEVENT
BEGIN:VEVENT
DTSTART;TZID=America/Los_Angeles:20250111T100000
DTEND;TZID=America/Los_Angeles:20250111T110000
DTSTAMP:20260423T092025
CREATED:20241122T184554Z
LAST-MODIFIED:20241122T184853Z
UID:39303-1736589600-1736593200@duvallperformingarts.com
SUMMARY:Progressions Showcase
DESCRIPTION:Progressions Showcase is our first performance of the dance season and is a great example of what our dancers class looks like on stage! We will show you the progressions of our classes from Mini Movers (age 3) through Level 5. Your dancer is excited to show you their new class skills in a piece of choreography under the big lights!
URL:https://duvallperformingarts.com/event/progressions-showcase/
CATEGORIES:Show
END:VEVENT
BEGIN:VEVENT
DTSTART;VALUE=DATE:20241223
DTEND;VALUE=DATE:20250106
DTSTAMP:20260423T092025
CREATED:20241122T182848Z
LAST-MODIFIED:20241122T183249Z
UID:39300-1734912000-1736121599@duvallperformingarts.com
SUMMARY:Studio Closed for Holiday
DESCRIPTION:
URL:https://duvallperformingarts.com/event/studio-closed-for-holiday/
CATEGORIES:No Classes
END:VEVENT
BEGIN:VEVENT
DTSTART;TZID=America/Los_Angeles:20241222T140000
DTEND;TZID=America/Los_Angeles:20241222T153000
DTSTAMP:20260423T092025
CREATED:20241122T182226Z
LAST-MODIFIED:20241122T183310Z
UID:39298-1734876000-1734881400@duvallperformingarts.com
SUMMARY:Nutcracker Performance
DESCRIPTION:Experience the enchanting tale of Clara and her Nutcracker! \nDuvall Performing Arts proudly presents The Nutcracker! Journey with Clara on an unforgettable adventure in the Land of Sweets. Watch as snowflakes dance\, flowers waltz\, and the sweetest delights come to life! \nIn this family-oriented\, 90 minute production\, you’ll enjoy enchanting choreography\, dazzling costume design\, and\nthe timeless music of Tchaikovsky. \nJoin us for this annual holiday tradition and make special memories to last a lifetime.
URL:https://duvallperformingarts.com/event/nutcracker-performance-8/
CATEGORIES:Show
END:VEVENT
BEGIN:VEVENT
DTSTART;TZID=America/Los_Angeles:20241221T190000
DTEND;TZID=America/Los_Angeles:20241221T193000
DTSTAMP:20260423T092025
CREATED:20241122T182154Z
LAST-MODIFIED:20241122T183328Z
UID:39296-1734807600-1734809400@duvallperformingarts.com
SUMMARY:Nutcracker Performance
DESCRIPTION:Experience the enchanting tale of Clara and her Nutcracker! \nDuvall Performing Arts proudly presents The Nutcracker! Journey with Clara on an unforgettable adventure in the Land of Sweets. Watch as snowflakes dance\, flowers waltz\, and the sweetest delights come to life! \nIn this family-oriented\, 90 minute production\, you’ll enjoy enchanting choreography\, dazzling costume design\, and\nthe timeless music of Tchaikovsky. \nJoin us for this annual holiday tradition and make special memories to last a lifetime.
URL:https://duvallperformingarts.com/event/nutcracker-performance-7/
CATEGORIES:Show
END:VEVENT
BEGIN:VEVENT
DTSTART;TZID=America/Los_Angeles:20241221T140000
DTEND;TZID=America/Los_Angeles:20241221T153000
DTSTAMP:20260423T092025
CREATED:20241122T182115Z
LAST-MODIFIED:20241122T183357Z
UID:39294-1734789600-1734795000@duvallperformingarts.com
SUMMARY:Nutcracker Performance
DESCRIPTION:Experience the enchanting tale of Clara and her Nutcracker! \nDuvall Performing Arts proudly presents The Nutcracker! Journey with Clara on an unforgettable adventure in the Land of Sweets. Watch as snowflakes dance\, flowers waltz\, and the sweetest delights come to life! \nIn this family-oriented\, 90 minute production\, you’ll enjoy enchanting choreography\, dazzling costume design\, and\nthe timeless music of Tchaikovsky. \nJoin us for this annual holiday tradition and make special memories to last a lifetime.
URL:https://duvallperformingarts.com/event/nutcracker-performance-6/
CATEGORIES:Show
END:VEVENT
BEGIN:VEVENT
DTSTART;TZID=America/Los_Angeles:20241220T190000
DTEND;TZID=America/Los_Angeles:20241220T203000
DTSTAMP:20260423T092025
CREATED:20241122T182040Z
LAST-MODIFIED:20241122T183404Z
UID:39292-1734721200-1734726600@duvallperformingarts.com
SUMMARY:Nutcracker Performance
DESCRIPTION:Experience the enchanting tale of Clara and her Nutcracker! \nDuvall Performing Arts proudly presents The Nutcracker! Journey with Clara on an unforgettable adventure in the Land of Sweets. Watch as snowflakes dance\, flowers waltz\, and the sweetest delights come to life! \nIn this family-oriented\, 90 minute production\, you’ll enjoy enchanting choreography\, dazzling costume design\, and\nthe timeless music of Tchaikovsky. \nJoin us for this annual holiday tradition and make special memories to last a lifetime.
URL:https://duvallperformingarts.com/event/nutcracker-performance-5/
CATEGORIES:Show
END:VEVENT
BEGIN:VEVENT
DTSTART;TZID=America/Los_Angeles:20241215T140000
DTEND;TZID=America/Los_Angeles:20241215T153000
DTSTAMP:20260423T092025
CREATED:20241122T182000Z
LAST-MODIFIED:20241122T183409Z
UID:39290-1734271200-1734276600@duvallperformingarts.com
SUMMARY:Nutcracker Performance
DESCRIPTION:Experience the enchanting tale of Clara and her Nutcracker! \nDuvall Performing Arts proudly presents The Nutcracker! Journey with Clara on an unforgettable adventure in the Land of Sweets. Watch as snowflakes dance\, flowers waltz\, and the sweetest delights come to life! \nIn this family-oriented\, 90 minute production\, you’ll enjoy enchanting choreography\, dazzling costume design\, and\nthe timeless music of Tchaikovsky. \nJoin us for this annual holiday tradition and make special memories to last a lifetime.
URL:https://duvallperformingarts.com/event/nutcracker-performance-4/
CATEGORIES:Show
END:VEVENT
BEGIN:VEVENT
DTSTART;TZID=America/Los_Angeles:20241214T190000
DTEND;TZID=America/Los_Angeles:20241214T203000
DTSTAMP:20260423T092025
CREATED:20241122T181900Z
LAST-MODIFIED:20241122T183415Z
UID:39288-1734202800-1734208200@duvallperformingarts.com
SUMMARY:Nutcracker Performance
DESCRIPTION:Experience the enchanting tale of Clara and her Nutcracker! \nDuvall Performing Arts proudly presents The Nutcracker! Journey with Clara on an unforgettable adventure in the Land of Sweets. Watch as snowflakes dance\, flowers waltz\, and the sweetest delights come to life! \nIn this family-oriented\, 90 minute production\, you’ll enjoy enchanting choreography\, dazzling costume design\, and\nthe timeless music of Tchaikovsky. \nJoin us for this annual holiday tradition and make special memories to last a lifetime.
URL:https://duvallperformingarts.com/event/nutcracker-performance-3/
CATEGORIES:Show
END:VEVENT
BEGIN:VEVENT
DTSTART;TZID=America/Los_Angeles:20241214T140000
DTEND;TZID=America/Los_Angeles:20241214T153000
DTSTAMP:20260423T092025
CREATED:20241122T181813Z
LAST-MODIFIED:20241122T183426Z
UID:39286-1734184800-1734190200@duvallperformingarts.com
SUMMARY:Nutcracker Performance
DESCRIPTION:Experience the enchanting tale of Clara and her Nutcracker! \nDuvall Performing Arts proudly presents The Nutcracker! Journey with Clara on an unforgettable adventure in the Land of Sweets. Watch as snowflakes dance\, flowers waltz\, and the sweetest delights come to life! \nIn this family-oriented\, 90 minute production\, you’ll enjoy enchanting choreography\, dazzling costume design\, and\nthe timeless music of Tchaikovsky. \nJoin us for this annual holiday tradition and make special memories to last a lifetime.
URL:https://duvallperformingarts.com/event/nutcracker-performance-2/
CATEGORIES:Show
END:VEVENT
END:VCALENDAR